Back to the "Multiple platform build/check report"
| IMPORTANT NOTE: R was configured with --enable-strict-barrier on lamb1 |
| Package 131/247 | Hostname | OS | Arch | BUILD | CHECK | BUILD BIN |
maDB1.9.4Johannes RainerLast Changed Date: 2007-05-22 23:01:48 -0700 Last Changed Rev: 24926 | lamb1 | Linux (SUSE 10.1) | x86_64 | OK | OK | |
| wellington | Linux (SUSE 9.2) | i686 | OK | OK | ||
| liverpool | Windows Server 2003 R2 (32-bit) | x64 | OK | ERROR | ERROR | |
| pitt | Mac OS X (10.4.10) | i386 | OK | ERROR | [ ERROR ] |
| Package: maDB |
| Version: 1.9.4 |
| Command: /Users/biocbuild/BBS/utils/build-universal.sh maDB_1.9.4.tar.gz /Library/Frameworks/R.framework/Resources/bin/R maDB.buildbin-libdir |
| RetCode: 1 |
| Time: 3.2 seconds |
| Status: ERROR |
| PackageFile: None |
INSTALLATION WITH 'R CMD INSTALL maDB_1.9.4.tar.gz'
* Installing to library 'maDB.buildbin-libdir'
* Installing *source* package 'maDB' ...
** R
** data
** inst
** preparing package for lazy loading
Loading required package: Biobase
Loading required package: tools
Welcome to Bioconductor
Vignettes contain introductory material. To view, type
'openVignette()'. To cite Bioconductor, see
'citation("Biobase")' and for packages 'citation(pkgname)'.
Loading required package: affy
Loading required package: affyio
Loading required package: preprocessCore
Error: package 'pgUtils' required by 'maDB' could not be found
Execution halted
ERROR: lazy loading failed for package 'maDB'
** Removing '/Users/biocbuild/bbs-2.1-bioc/meat/maDB.buildbin-libdir/maDB'