Back to the "Multiple platform build/check report"
| IMPORTANT NOTE: R was configured with --enable-strict-barrier on lamb1 |
| Package 102/247 | Hostname | OS | Arch | BUILD | CHECK | BUILD BIN |
gpls1.9.0Biocore Team c/o BioC user listLast Changed Date: 2007-08-20 09:33:20 -0700 Last Changed Rev: 26527 | lamb1 | Linux (SUSE 10.1) | x86_64 | OK | OK | |
| wellington | Linux (SUSE 9.2) | i686 | [ OK ] | OK | ||
| liverpool | Windows Server 2003 R2 (32-bit) | x64 | OK | OK | OK | |
| pitt | Mac OS X (10.4.10) | i386 | OK | OK | OK |
| Package: gpls |
| Version: 1.9.0 |
| Command: /loc/biocbuild/bbs-2.1-bioc/R/bin/R CMD build gpls |
| RetCode: 0 |
| Time: 40.8 seconds |
| Status: OK |
| PackageFile: gpls_1.9.0.tar.gz |
* checking for file 'gpls/DESCRIPTION' ... OK
* preparing 'gpls':
* checking DESCRIPTION meta-information ... OK
* checking whether 'INDEX' is up-to-date ... NO
* use '--force' to overwrite the existing 'INDEX'
* installing the package to re-build vignettes
* Installing *source* package 'gpls' ...
** R
** inst
** help
>>> Building/Updating help pages for package 'gpls'
Formats: text html latex example
glpls1a text html latex example
glpls1a.cv.error text html latex example
glpls1a.logit.all text html latex example
glpls1a.mlogit text html latex example
glpls1a.mlogit.cv.error text html latex example
glpls1a.train.test.error text html latex example
gpls text html latex example
predict.gpls text html latex example
** building package indices ...
* DONE (gpls)
* creating vignettes ... OK
* removing junk files
* checking for LF line-endings in source files
* checking for empty or unneeded directories
* building 'gpls_1.9.0.tar.gz'