Back to the "Multiple platform build/check report"
| IMPORTANT NOTE: R was configured with --enable-strict-barrier on lamb1 |
| Package 95/247 | Hostname | OS | Arch | BUILD | CHECK | BUILD BIN |
gff3Plotter1.9.0Oleg SklyarLast Changed Date: 2007-05-11 21:56:41 -0700 Last Changed Rev: 24616 | lamb1 | Linux (SUSE 10.1) | x86_64 | OK | WARNINGS | |
| wellington | Linux (SUSE 9.2) | i686 | OK | WARNINGS | ||
| liverpool | Windows Server 2003 R2 (32-bit) | x64 | OK | WARNINGS | OK | |
| pitt | Mac OS X (10.4.10) | i386 | OK | WARNINGS | [ OK ] |
| Package: gff3Plotter |
| Version: 1.9.0 |
| Command: /Users/biocbuild/BBS/utils/build-universal.sh gff3Plotter_1.9.0.tar.gz /Library/Frameworks/R.framework/Resources/bin/R gff3Plotter.buildbin-libdir |
| RetCode: 0 |
| Time: 5.2 seconds |
| Status: OK |
| PackageFile: gff3Plotter_1.9.0.tgz |
INSTALLATION WITH 'R CMD INSTALL gff3Plotter_1.9.0.tar.gz'
* Installing to library 'gff3Plotter.buildbin-libdir'
* Installing *source* package 'gff3Plotter' ...
** R
** inst
** preparing package for lazy loading
** help
Note: unmatched right brace in 'getTickCoords' on or after line 19
Note: unmatched right brace in 'plot.gff' on or after line 34
Note: unmatched right brace in 'plot.gff.toFile' on or after line 25
>>> Building/Updating help pages for package 'gff3Plotter'
Formats: text html latex example
getAttr text html latex example
getTickCoords text html latex example
internals text html latex
plot.gff text html latex example
plot.gff.toFile text html latex example
read.gff text html latex example
** building package indices ...
* DONE (gff3Plotter)