Back to the "Multiple platform build/check report"
| IMPORTANT NOTE: R was configured with --enable-strict-barrier on lamb1 |
| Package 77/247 | Hostname | OS | Arch | BUILD | CHECK | BUILD BIN |
flowUtils0.2.7Florian HahneLast Changed Date: 2007-07-19 14:20:23 -0700 Last Changed Rev: 25895 | lamb1 | Linux (SUSE 10.1) | x86_64 | OK | ERROR | |
| wellington | Linux (SUSE 9.2) | i686 | OK | ERROR | ||
| liverpool | Windows Server 2003 R2 (32-bit) | x64 | OK | ERROR | OK | |
| pitt | Mac OS X (10.4.10) | i386 | OK | ERROR | [ OK ] |
| Package: flowUtils |
| Version: 0.2.7 |
| Command: /Users/biocbuild/BBS/utils/build-universal.sh flowUtils_0.2.7.tar.gz /Library/Frameworks/R.framework/Resources/bin/R flowUtils.buildbin-libdir |
| RetCode: 0 |
| Time: 3.4 seconds |
| Status: OK |
| PackageFile: flowUtils_0.2.7.tgz |
INSTALLATION WITH 'R CMD INSTALL flowUtils_0.2.7.tar.gz'
* Installing to library 'flowUtils.buildbin-libdir'
* Installing *source* package 'flowUtils' ...
** R
** inst
** help
>>> Building/Updating help pages for package 'flowUtils'
Formats: text html latex example
flowUtil-package text html latex example
read.gatingML text html latex example
read.transformML text html latex example
** building package indices ...
* DONE (flowUtils)