Back to the "Multiple platform build/check report"
| IMPORTANT NOTE: R was configured with --enable-strict-barrier on lamb1 |
| Package 70/247 | Hostname | OS | Arch | BUILD | CHECK | BUILD BIN |
explorase1.1.3Michael LawrenceLast Changed Date: 2007-07-05 13:57:37 -0700 Last Changed Rev: 25668 | lamb1 | Linux (SUSE 10.1) | x86_64 | [ OK ] | OK | |
| wellington | Linux (SUSE 9.2) | i686 | ERROR | skipped | ||
| liverpool | Windows Server 2003 R2 (32-bit) | x64 | ERROR | skipped | skipped | |
| pitt | Mac OS X (10.4.10) | i386 | ERROR | skipped | skipped |
| Package: explorase |
| Version: 1.1.3 |
| Command: /home/biocbuild/bbs-2.1-bioc/R/bin/R CMD build explorase |
| RetCode: 0 |
| Time: 5.5 seconds |
| Status: OK |
| PackageFile: explorase_1.1.3.tar.gz |
* checking for file 'explorase/DESCRIPTION' ... OK
* preparing 'explorase':
* checking DESCRIPTION meta-information ... OK
* installing the package to re-build vignettes
* Installing *source* package 'explorase' ...
** R
** inst
** preparing package for lazy loading
Loading required package: rggobi
Loading required package: RGtk2
Loading required package: limma
** help
>>> Building/Updating help pages for package 'explorase'
Formats: text html latex example
exp-addEntityType-vx text html latex example
exp-addFilterRule-rn text html latex example
exp-calcAngleDist-31 text html latex example
exp-calcCorrelationDist-45 text html latex example
exp-calcDiff-y4 text html latex example
exp-calcEuclideanDist-dn text html latex example
exp-calcMahalanobisDist-r1 text html latex example
exp-calcResiduals-ps text html latex example
exp-calcZeroCorDist-by text html latex example
exp-close text html latex
exp-colorEntities-1h text html latex example
exp-dataset-6l text html latex example
exp-designFactors-72 text html latex example
exp-designFrame-d0 text html latex example
exp-designSelection-5s text html latex example
exp-entitiesInList-df text html latex example
exp-entityFrame-4j text html latex example
exp-entitySelection-11 text html latex example
exp-entityType-69 text html latex example
exp-entityTypes-9e text html latex example
exp-filterRules-vt text html latex example
exp-findPatterns-yw text html latex example
exp-ggobi-69 text html latex example
exp-isRunning-fo text html latex example
exp-listFrame-gp text html latex example
exp-listSelection text html latex example
exp-loadData-bo text html latex example
exp-loadDesign-35 text html latex example
exp-loadFiles-1w text html latex example
exp-loadInfo-gk text html latex example
exp-loadLists-pr text html latex example
exp-loadProject-1g text html latex example
exp-newList-bs text html latex example
exp-removeFilterRules-1i text html latex example
exp-showClustering-b7 text html latex example
exp-showPatterns-bh text html latex example
exp-showResults-sk text html latex example
exp-toggleFilterRules-ts text html latex example
explorase text html latex
** building package indices ...
* DONE (explorase)
* creating vignettes ... OK
* removing junk files
* checking for LF line-endings in source files
* checking for empty or unneeded directories
* building 'explorase_1.1.3.tar.gz'