Back to the "Multiple platform build/check report"
| IMPORTANT NOTE: R was configured with --enable-strict-barrier on lamb1 |
| Package 36/247 | Hostname | OS | Arch | BUILD | CHECK | BUILD BIN |
bioDist1.9.1Biocore Team c/o BioC user listLast Changed Date: 2007-08-20 09:33:20 -0700 Last Changed Rev: 26527 | lamb1 | Linux (SUSE 10.1) | x86_64 | OK | OK | |
| wellington | Linux (SUSE 9.2) | i686 | OK | OK | ||
| liverpool | Windows Server 2003 R2 (32-bit) | x64 | OK | OK | OK | |
| pitt | Mac OS X (10.4.10) | i386 | OK | OK | [ OK ] |
| Package: bioDist |
| Version: 1.9.1 |
| Command: /Users/biocbuild/BBS/utils/build-universal.sh bioDist_1.9.1.tar.gz /Library/Frameworks/R.framework/Resources/bin/R bioDist.buildbin-libdir |
| RetCode: 0 |
| Time: 2.8 seconds |
| Status: OK |
| PackageFile: bioDist_1.9.1.tgz |
INSTALLATION WITH 'R CMD INSTALL bioDist_1.9.1.tar.gz'
* Installing to library 'bioDist.buildbin-libdir'
* Installing *source* package 'bioDist' ...
** R
** help
>>> Building/Updating help pages for package 'bioDist'
Formats: text html latex example
KLD.matrix text html latex example
KLdist.matrix text html latex example
closest.top text html latex example
cor.dist text html latex example
euc text html latex example
man text html latex example
mutualInfo text html latex example
spearman.dist text html latex example
tau.dist text html latex example
** building package indices ...
* DONE (bioDist)