Back to the "Multiple platform build/check report"
| IMPORTANT NOTE: R was configured with --enable-strict-barrier on lamb1 |
| Package 25/247 | Hostname | OS | Arch | BUILD | CHECK | BUILD BIN |
arrayQCplot2.5.0Eun-kyung LeeLast Changed Date: 2007-04-24 11:31:42 -0700 Last Changed Rev: 24217 | lamb1 | Linux (SUSE 10.1) | x86_64 | OK | WARNINGS | |
| wellington | Linux (SUSE 9.2) | i686 | OK | ERROR | ||
| liverpool | Windows Server 2003 R2 (32-bit) | x64 | OK | ERROR | ERROR | |
| pitt | Mac OS X (10.4.10) | i386 | OK | WARNINGS | [ OK ] |
| Package: arrayQCplot |
| Version: 2.5.0 |
| Command: /Users/biocbuild/BBS/utils/build-universal.sh arrayQCplot_2.5.0.tar.gz /Library/Frameworks/R.framework/Resources/bin/R arrayQCplot.buildbin-libdir |
| RetCode: 0 |
| Time: 5.0 seconds |
| Status: OK |
| PackageFile: arrayQCplot_2.5.0.tgz |
INSTALLATION WITH 'R CMD INSTALL arrayQCplot_2.5.0.tar.gz'
* Installing to library 'arrayQCplot.buildbin-libdir'
* Installing *source* package 'arrayQCplot' ...
** R
** inst
** preparing package for lazy loading
Loading required package: RGtk2
Loading required package: cairoDevice
Loading required package: LPE
** help
>>> Building/Updating help pages for package 'arrayQCplot'
Formats: text html latex example
arrayQC.plot text html latex example
** building package indices ...
* DONE (arrayQCplot)