Back to the "Multiple platform build/check report"
| IMPORTANT NOTE: R was configured with --enable-strict-barrier on lamb1 |
| Package 4/247 | Hostname | OS | Arch | BUILD | CHECK | BUILD BIN |
adSplit1.7.0Claudio LottazLast Changed Date: 2007-05-11 21:56:41 -0700 Last Changed Rev: 24616 | lamb1 | Linux (SUSE 10.1) | x86_64 | OK | OK | |
| wellington | Linux (SUSE 9.2) | i686 | [ OK ] | OK | ||
| liverpool | Windows Server 2003 R2 (32-bit) | x64 | OK | OK | OK | |
| pitt | Mac OS X (10.4.10) | i386 | OK | OK | OK |
| Package: adSplit |
| Version: 1.7.0 |
| Command: /loc/biocbuild/bbs-2.1-bioc/R/bin/R CMD build adSplit |
| RetCode: 0 |
| Time: 128.6 seconds |
| Status: OK |
| PackageFile: adSplit_1.7.0.tar.gz |
* checking for file 'adSplit/DESCRIPTION' ... OK
* preparing 'adSplit':
* checking DESCRIPTION meta-information ... OK
* cleaning src
* installing the package to re-build vignettes
* Installing *source* package 'adSplit' ...
** libs
g++ -I/loc/biocbuild/bbs-2.1-bioc/R/include -I/loc/biocbuild/bbs-2.1-bioc/R/include -I/usr/local/include -fpic -g -O2 -Wall -c adSplit.cpp -o adSplit.o
g++ -shared -L/usr/local/lib -o adSplit.so adSplit.o -L/loc/biocbuild/bbs-2.1-bioc/R/lib -lR
** R
** data
** inst
** preparing package for lazy loading
Loading required package: cluster
Loading required package: multtest
Loading required package: Biobase
Loading required package: tools
Welcome to Bioconductor
Vignettes contain introductory material. To view, type
'openVignette()'. To cite Bioconductor, see
'citation("Biobase")' and for packages 'citation(pkgname)'.
Loading required package: survival
Loading required package: splines
Loading required package: affy
Loading required package: affyio
Loading required package: preprocessCore
Loading required package: GO
Loading required package: KEGG
** help
>>> Building/Updating help pages for package 'adSplit'
Formats: text html latex example
adSplit-internal text html latex
adSplit text html latex example
diana2means text html latex example
drawRandomPS text html latex example
golubKEGGSplits text html latex example
hist.splitSet text html latex example
image.splitSet text html latex example
makeEID2PROBESenv text html latex example
print.split text html latex
print.splitSet text html latex example
randomDiana2means text html latex example
** building package indices ...
* DONE (adSplit)
* creating vignettes ... OK
* cleaning src
* removing junk files
* checking for LF line-endings in source files
* checking for empty or unneeded directories
* building 'adSplit_1.7.0.tar.gz'