Back to the "Multiple platform build/check report"
| IMPORTANT NOTE: R was configured with --enable-strict-barrier on lamb1 |
| Package 214/247 | Hostname | OS | Arch | BUILD | CHECK | BUILD BIN |
SBMLR1.31.0Tomas RadivoyevitchLast Changed Date: 2007-04-24 11:31:42 -0700 Last Changed Rev: 24217 | lamb1 | Linux (SUSE 10.1) | x86_64 | OK | WARNINGS | |
| wellington | Linux (SUSE 9.2) | i686 | [ OK ] | WARNINGS | ||
| liverpool | Windows Server 2003 R2 (32-bit) | x64 | OK | WARNINGS | OK | |
| pitt | Mac OS X (10.4.10) | i386 | OK | WARNINGS | OK |
| Package: SBMLR |
| Version: 1.31.0 |
| Command: /loc/biocbuild/bbs-2.1-bioc/R/bin/R CMD build SBMLR |
| RetCode: 0 |
| Time: 1.8 seconds |
| Status: OK |
| PackageFile: SBMLR_1.31.0.tar.gz |
* checking for file 'SBMLR/DESCRIPTION' ... OK * preparing 'SBMLR': * checking DESCRIPTION meta-information ... OK * removing junk files * checking for LF line-endings in source files * checking for empty or unneeded directories * building 'SBMLR_1.31.0.tar.gz'