Back to the "Multiple platform build/check report"
| IMPORTANT NOTE: R was configured with --enable-strict-barrier on lamb1 |
| Package 214/247 | Hostname | OS | Arch | BUILD | CHECK | BUILD BIN |
SBMLR1.31.0Tomas RadivoyevitchLast Changed Date: 2007-04-24 11:31:42 -0700 Last Changed Rev: 24217 | lamb1 | Linux (SUSE 10.1) | x86_64 | OK | WARNINGS | |
| wellington | Linux (SUSE 9.2) | i686 | OK | WARNINGS | ||
| liverpool | Windows Server 2003 R2 (32-bit) | x64 | OK | WARNINGS | OK | |
| pitt | Mac OS X (10.4.10) | i386 | OK | WARNINGS | [ OK ] |
| Package: SBMLR |
| Version: 1.31.0 |
| Command: /Users/biocbuild/BBS/utils/build-universal.sh SBMLR_1.31.0.tar.gz /Library/Frameworks/R.framework/Resources/bin/R SBMLR.buildbin-libdir |
| RetCode: 0 |
| Time: 4.0 seconds |
| Status: OK |
| PackageFile: SBMLR_1.31.0.tgz |
INSTALLATION WITH 'R CMD INSTALL SBMLR_1.31.0.tar.gz'
* Installing to library 'SBMLR.buildbin-libdir'
* Installing *source* package 'SBMLR' ...
** R
** inst
** preparing package for lazy loading
Loading required package: XML
Loading required package: odesolve
** help
Note: unmatched right brace in 'summary.SBML' on or after line 16
>>> Building/Updating help pages for package 'SBMLR'
Formats: text html latex example
equateModels text html latex example
makeLaw text html latex example
readSBML text html latex example
readSBMLR text html latex example
saveSBML text html latex example
saveSBMLR text html latex example
simulate text html latex example
summary.SBML text html latex example
** building package indices ...
* DONE (SBMLR)