Back to the "Multiple platform build/check report"
| IMPORTANT NOTE: R was configured with --enable-strict-barrier on lamb1 |
| Package 194/247 | Hostname | OS | Arch | BUILD | CHECK | BUILD BIN |
Resourcerer1.11.0Jianhua ZhangLast Changed Date: 2007-08-01 13:23:31 -0700 Last Changed Rev: 26107 | lamb1 | Linux (SUSE 10.1) | x86_64 | OK | OK | |
| wellington | Linux (SUSE 9.2) | i686 | OK | OK | ||
| liverpool | Windows Server 2003 R2 (32-bit) | x64 | OK | OK | OK | |
| pitt | Mac OS X (10.4.10) | i386 | OK | OK | [ OK ] |
| Package: Resourcerer |
| Version: 1.11.0 |
| Command: /Users/biocbuild/BBS/utils/build-universal.sh Resourcerer_1.11.0.tar.gz /Library/Frameworks/R.framework/Resources/bin/R Resourcerer.buildbin-libdir |
| RetCode: 0 |
| Time: 6.0 seconds |
| Status: OK |
| PackageFile: Resourcerer_1.11.0.tgz |
INSTALLATION WITH 'R CMD INSTALL Resourcerer_1.11.0.tar.gz'
* Installing to library 'Resourcerer.buildbin-libdir'
* Installing *source* package 'Resourcerer' ...
** R
** inst
** preparing package for lazy loading
Loading required package: Biobase
Loading required package: tools
Welcome to Bioconductor
Vignettes contain introductory material. To view, type
'openVignette()'. To cite Bioconductor, see
'citation("Biobase")' and for packages 'citation(pkgname)'.
Loading required package: AnnBuilder
Loading required package: XML
Loading required package: annotate
Loading required package: AnnotationDbi
Loading required package: DBI
Loading required package: RSQLite
** help
Note: unmatched right brace in 'getRsourcerer' on or after line 56
>>> Building/Updating help pages for package 'Resourcerer'
Formats: text html latex example
getRsourcerer text html latex example
resourcerer2BioC text html latex example
** building package indices ...
* DONE (Resourcerer)