Back to the "Multiple platform build/check report"
| IMPORTANT NOTE: R was configured with --enable-strict-barrier on lamb1 |
| Package 186/247 | Hostname | OS | Arch | BUILD | CHECK | BUILD BIN |
RankProd2.9.0Fangxin HongLast Changed Date: 2007-04-24 11:31:42 -0700 Last Changed Rev: 24217 | lamb1 | Linux (SUSE 10.1) | x86_64 | OK | OK | |
| wellington | Linux (SUSE 9.2) | i686 | OK | OK | ||
| liverpool | Windows Server 2003 R2 (32-bit) | x64 | OK | OK | OK | |
| pitt | Mac OS X (10.4.10) | i386 | [ OK ] | OK | OK |
| Package: RankProd |
| Version: 2.9.0 |
| Command: /Library/Frameworks/R.framework/Resources/bin/R CMD build RankProd |
| RetCode: 0 |
| Time: 37.8 seconds |
| Status: OK |
| PackageFile: RankProd_2.9.0.tar.gz |
* checking for file 'RankProd/DESCRIPTION' ... OK
* preparing 'RankProd':
* checking DESCRIPTION meta-information ... OK
* installing the package to re-build vignettes
* Installing *source* package 'RankProd' ...
** R
** data
** inst
** preparing package for lazy loading
** help
Note: unmatched right brace in 'topGene' on or after line 74
>>> Building/Updating help pages for package 'RankProd'
Formats: text html latex example
RP text html latex example
RPadvance text html latex example
RSadvance text html latex example
RankProd-internal text html latex
arab text html latex
golub text html latex
lymphoma text html latex
plotGene text html latex example
plotRP text html latex example
topGene text html latex example
** building package indices ...
* DONE (RankProd)
* creating vignettes ... OK
* removing junk files
* checking for LF line-endings in source and make files
* checking for empty or unneeded directories
* building 'RankProd_2.9.0.tar.gz'