Back to the "Multiple platform build/check report"
| IMPORTANT NOTE: R was configured with --enable-strict-barrier on lamb1 |
| Package 205/247 | Hostname | OS | Arch | BUILD | CHECK | BUILD BIN |
RPostgreSQL0.0.0M. DalphinLast Changed Date: 2007-01-08 18:28:57 -0800 Last Changed Rev: 21881 | lamb1 | Linux (SUSE 10.1) | x86_64 | OK | WARNINGS | |
| wellington | Linux (SUSE 9.2) | i686 | OK | WARNINGS | ||
| liverpool | Windows Server 2003 R2 (32-bit) | x64 | OK | WARNINGS | OK | |
| pitt | Mac OS X (10.4.10) | i386 | OK | WARNINGS | [ OK ] |
| Package: RPostgreSQL |
| Version: 0.0.0 |
| Command: /Users/biocbuild/BBS/utils/build-universal.sh RPostgreSQL_0.0.0.tar.gz /Library/Frameworks/R.framework/Resources/bin/R RPostgreSQL.buildbin-libdir |
| RetCode: 0 |
| Time: 8.1 seconds |
| Status: OK |
| PackageFile: RPostgreSQL_0.0.0.tgz |
INSTALLATION WITH 'R CMD INSTALL RPostgreSQL_0.0.0.tar.gz'
* Installing to library 'RPostgreSQL.buildbin-libdir'
* Installing *source* package 'RPostgreSQL' ...
** libs
WARNING: no source files found
chmod: /Users/biocbuild/bbs-2.1-bioc/meat/RPostgreSQL.buildbin-libdir/RPostgreSQL/libs/i386/*: No such file or directory
** R
** inst
** help
chmod: /Users/biocbuild/bbs-2.1-bioc/meat/RPostgreSQL.buildbin-libdir/RPostgreSQL/man/RPostgreSQL.Rd.gz: No such file or directory
>>> Building/Updating help pages for package 'RPostgreSQL'
Formats: text html latex example
** building package indices ...
* DONE (RPostgreSQL)
INSTALLATION OF ppc LIBS WITH 'R_ARCH=/ppc R CMD INSTALL --libs-only RPostgreSQL_0.0.0.tar.gz'
* Installing to library 'RPostgreSQL.buildbin-libdir'
* Installing *source* package 'RPostgreSQL' ...
** libs
WARNING: no source files found
chmod: /Users/biocbuild/bbs-2.1-bioc/meat/RPostgreSQL.buildbin-libdir/RPostgreSQL/libs/ppc/*: No such file or directory
* DONE (RPostgreSQL)