Back to the "Multiple platform build/check report"
| IMPORTANT NOTE: R was configured with --enable-strict-barrier on lamb1 |
| Package 201/247 | Hostname | OS | Arch | BUILD | CHECK | BUILD BIN |
RLMM0.11.0Nusrat RabbeeLast Changed Date: 2007-01-09 17:06:56 -0800 Last Changed Rev: 21912 | lamb1 | Linux (SUSE 10.1) | x86_64 | OK | OK | |
| wellington | Linux (SUSE 9.2) | i686 | OK | OK | ||
| liverpool | Windows Server 2003 R2 (32-bit) | x64 | OK | OK | OK | |
| pitt | Mac OS X (10.4.10) | i386 | OK | OK | [ OK ] |
| Package: RLMM |
| Version: 0.11.0 |
| Command: /Users/biocbuild/BBS/utils/build-universal.sh RLMM_0.11.0.tar.gz /Library/Frameworks/R.framework/Resources/bin/R RLMM.buildbin-libdir |
| RetCode: 0 |
| Time: 3.0 seconds |
| Status: OK |
| PackageFile: RLMM_0.11.0.tgz |
INSTALLATION WITH 'R CMD INSTALL RLMM_0.11.0.tar.gz'
* Installing to library 'RLMM.buildbin-libdir'
* Installing *source* package 'RLMM' ...
** R
** inst
** help
>>> Building/Updating help pages for package 'RLMM'
Formats: text html latex example
Classify text html latex
create_Thetafile text html latex
normalize_Rawfiles text html latex
plot_theta text html latex
** building package indices ...
* DONE (RLMM)