Back to the "Multiple platform build/check report"
| IMPORTANT NOTE: R was configured with --enable-strict-barrier on lamb1 | 
| Package 113/247 | Hostname | OS | Arch | BUILD | CHECK | BUILD BIN | 
| Icens1.9.0Biocore Team c/o BioC user listLast Changed Date: 2007-08-20 09:33:20 -0700 Last Changed Rev: 26527 | lamb1 | Linux (SUSE 10.1) | x86_64 | OK | OK | |
| wellington | Linux (SUSE 9.2) | i686 | OK | OK | ||
| liverpool | Windows Server 2003 R2 (32-bit) | x64 | OK | OK | OK | |
| pitt | Mac OS X (10.4.10) | i386 | OK | OK | [ OK ] | 
| Package: Icens | 
| Version: 1.9.0 | 
| Command: /Users/biocbuild/BBS/utils/build-universal.sh Icens_1.9.0.tar.gz /Library/Frameworks/R.framework/Resources/bin/R Icens.buildbin-libdir | 
| RetCode: 0 | 
| Time: 5.3 seconds | 
| Status: OK | 
| PackageFile: Icens_1.9.0.tgz | 
                    INSTALLATION WITH 'R CMD INSTALL Icens_1.9.0.tar.gz'
* Installing to library 'Icens.buildbin-libdir'
* Installing *source* package 'Icens' ...
** R
** data
** preparing package for lazy loading
Loading required package: survival
Loading required package: splines
** help
 >>> Building/Updating help pages for package 'Icens'
     Formats: text html latex example 
  BVcliques                         text    html    latex   example
  BVclmat                           text    html    latex   example
  BVsupport                         text    html    latex   example
  Bisect                            text    html    latex
  EM                                text    html    latex   example
  EMICM                             text    html    latex   example
  ISDM                              text    html    latex   example
  Icens-internal                    text    html    latex
  MLEintvl                          text    html    latex   example
  Maclist                           text    html    latex   example
  Macmat                            text    html    latex   example
  PGM                               text    html    latex   example
  PMGA                              text    html    latex
  Plotboxes                         text    html    latex   example
  VEM                               text    html    latex   example
  cmv                               text    html    latex   example
  cosmesis                          text    html    latex   example
  hiv                               text    html    latex   example
  icsurv                            text    html    latex
  plot.icsurv                       text    html    latex   example
  pruitt                            text    html    latex   example
** building package indices ...
* DONE (Icens)