Back to the "Multiple platform build/check report"
| IMPORTANT NOTE: R was configured with --enable-strict-barrier on lamb1 | 
| Package 113/247 | Hostname | OS | Arch | BUILD | CHECK | BUILD BIN | 
| Icens1.9.0Biocore Team c/o BioC user listLast Changed Date: 2007-08-20 09:33:20 -0700 Last Changed Rev: 26527 | lamb1 | Linux (SUSE 10.1) | x86_64 | [ OK ] | OK | |
| wellington | Linux (SUSE 9.2) | i686 | OK | OK | ||
| liverpool | Windows Server 2003 R2 (32-bit) | x64 | OK | OK | OK | |
| pitt | Mac OS X (10.4.10) | i386 | OK | OK | OK | 
| Package: Icens | 
| Version: 1.9.0 | 
| Command: /home/biocbuild/bbs-2.1-bioc/R/bin/R CMD build Icens | 
| RetCode: 0 | 
| Time: 0.5 seconds | 
| Status: OK | 
| PackageFile: Icens_1.9.0.tar.gz | 
* checking for file 'Icens/DESCRIPTION' ... OK * preparing 'Icens': * checking DESCRIPTION meta-information ... OK * checking whether 'INDEX' is up-to-date ... NO * use '--force' to overwrite the existing 'INDEX' * removing junk files * checking for LF line-endings in source files * checking for empty or unneeded directories * building 'Icens_1.9.0.tar.gz'