Back to the "Multiple platform build/check report"
| IMPORTANT NOTE: R was configured with --enable-strict-barrier on lamb1 |
| Package 90/247 | Hostname | OS | Arch | BUILD | CHECK | BUILD BIN |
GeneticsDesign1.1.0Weiliang QiuLast Changed Date: 2007-04-24 11:31:42 -0700 Last Changed Rev: 24217 | lamb1 | Linux (SUSE 10.1) | x86_64 | OK | OK | |
| wellington | Linux (SUSE 9.2) | i686 | OK | OK | ||
| liverpool | Windows Server 2003 R2 (32-bit) | x64 | OK | OK | OK | |
| pitt | Mac OS X (10.4.10) | i386 | OK | OK | [ OK ] |
| Package: GeneticsDesign |
| Version: 1.1.0 |
| Command: /Users/biocbuild/BBS/utils/build-universal.sh GeneticsDesign_1.1.0.tar.gz /Library/Frameworks/R.framework/Resources/bin/R GeneticsDesign.buildbin-libdir |
| RetCode: 0 |
| Time: 4.9 seconds |
| Status: OK |
| PackageFile: GeneticsDesign_1.1.0.tgz |
INSTALLATION WITH 'R CMD INSTALL GeneticsDesign_1.1.0.tar.gz'
* Installing to library 'GeneticsDesign.buildbin-libdir'
* Installing *source* package 'GeneticsDesign' ...
** R
** inst
** preparing package for lazy loading
Loading required package: combinat
Attaching package: 'combinat'
The following object(s) are masked from package:utils :
combn
Loading required package: gdata
Loading required package: mvtnorm
** help
>>> Building/Updating help pages for package 'GeneticsDesign'
Formats: text html latex example
GPC text html latex example
gregorius text html latex example
power.casectl text html latex example
** building package indices ...
* DONE (GeneticsDesign)