Back to the "Multiple platform build/check report"
| IMPORTANT NOTE: R was configured with --enable-strict-barrier on lamb1 |
| Package 83/247 | Hostname | OS | Arch | BUILD | CHECK | BUILD BIN |
GeneMeta1.9.1Biocore Team c/o BioC user listLast Changed Date: 2007-08-20 09:33:20 -0700 Last Changed Rev: 26527 | lamb1 | Linux (SUSE 10.1) | x86_64 | OK | OK | |
| wellington | Linux (SUSE 9.2) | i686 | OK | OK | ||
| liverpool | Windows Server 2003 R2 (32-bit) | x64 | OK | OK | OK | |
| pitt | Mac OS X (10.4.10) | i386 | OK | OK | [ OK ] |
| Package: GeneMeta |
| Version: 1.9.1 |
| Command: /Users/biocbuild/BBS/utils/build-universal.sh GeneMeta_1.9.1.tar.gz /Library/Frameworks/R.framework/Resources/bin/R GeneMeta.buildbin-libdir |
| RetCode: 0 |
| Time: 7.3 seconds |
| Status: OK |
| PackageFile: GeneMeta_1.9.1.tgz |
INSTALLATION WITH 'R CMD INSTALL GeneMeta_1.9.1.tar.gz'
* Installing to library 'GeneMeta.buildbin-libdir'
* Installing *source* package 'GeneMeta' ...
** R
** data
** inst
** preparing package for lazy loading
Loading required package: Biobase
Loading required package: tools
Welcome to Bioconductor
Vignettes contain introductory material. To view, type
'openVignette()'. To cite Bioconductor, see
'citation("Biobase")' and for packages 'citation(pkgname)'.
Loading required package: genefilter
Loading required package: survival
Loading required package: splines
** help
>>> Building/Updating help pages for package 'GeneMeta'
Formats: text html latex example
CountPlot text html latex example
Nevins text html latex example
dstar text html latex example
f.Q text html latex example
tau text html latex example
zscore text html latex example
** building package indices ...
* DONE (GeneMeta)