Back to the "Multiple platform build/check report"
| IMPORTANT NOTE: R was configured with --enable-strict-barrier on lamb1 |
| Package 45/247 | Hostname | OS | Arch | BUILD | CHECK | BUILD BIN |
Category2.3.28S. FalconLast Changed Date: 2007-08-23 15:18:34 -0700 Last Changed Rev: 26614 | lamb1 | Linux (SUSE 10.1) | x86_64 | OK | OK | |
| wellington | Linux (SUSE 9.2) | i686 | OK | OK | ||
| liverpool | Windows Server 2003 R2 (32-bit) | x64 | OK | OK | OK | |
| pitt | Mac OS X (10.4.10) | i386 | OK | OK | [ OK ] |
| Package: Category |
| Version: 2.3.28 |
| Command: /Users/biocbuild/BBS/utils/build-universal.sh Category_2.3.28.tar.gz /Library/Frameworks/R.framework/Resources/bin/R Category.buildbin-libdir |
| RetCode: 0 |
| Time: 11.5 seconds |
| Status: OK |
| PackageFile: Category_2.3.28.tgz |
INSTALLATION WITH 'R CMD INSTALL Category_2.3.28.tar.gz'
* Installing to library 'Category.buildbin-libdir'
* Installing *source* package 'Category' ...
** R
** inst
** preparing package for lazy loading
Loading required package: Biobase
Loading required package: tools
Welcome to Bioconductor
Vignettes contain introductory material. To view, type
'openVignette()'. To cite Bioconductor, see
'citation("Biobase")' and for packages 'citation(pkgname)'.
Loading required package: graph
Loading required package: annotate
Loading required package: AnnotationDbi
Loading required package: DBI
Loading required package: RSQLite
Loading required package: genefilter
Loading required package: survival
Loading required package: splines
** help
>>> Building/Updating help pages for package 'Category'
Formats: text html latex example
ChrBandTree-class text html latex example
ChrMapHyperGParams-class text html latex example
ChrMapHyperGResult-class text html latex example
DatPkg-class text html latex example
GOHyperGParams-class text html latex
HyperGParams-class text html latex
HyperGResult-accessors text html latex
HyperGResult-class text html latex
HyperGResultBase-class text html latex
KEGGHyperGParams-class text html latex
MAPAmat text html latex example
NewChrBandTree text html latex
applyByCategory text html latex example
cateGOryMatrix text html latex example
categoryToEntrezBuilder text html latex
cb_contingency text html latex
cb_parse_band_hsa text html latex example
cb_test text html latex
chrBandInciMat text html latex example
exampleLevels text html latex
findAMstats text html latex example
geneGoHyperGeoTest text html latex
geneKeggHyperGeoTest text html latex
getPathNames text html latex example
gseaperm text html latex example
hyperGTest text html latex
makeChrBandGraph text html latex example
makeEBcontr text html latex example
makeValidParams text html latex
probes2MAP text html latex example
probes2Path text html latex example
tree_iter text html latex
ttperm text html latex example
universeBuilder text html latex
** building package indices ...
* DONE (Category)