Back to the "Multiple platform build/check report"
| IMPORTANT NOTE: R was configured with --enable-strict-barrier on lamb1 |
| Package 56/247 | Hostname | OS | Arch | BUILD | CHECK | BUILD BIN |
CORREP1.3.0Dongxiao ZhuLast Changed Date: 2007-04-24 11:31:42 -0700 Last Changed Rev: 24217 | lamb1 | Linux (SUSE 10.1) | x86_64 | OK | [ OK ] | |
| wellington | Linux (SUSE 9.2) | i686 | OK | OK | ||
| liverpool | Windows Server 2003 R2 (32-bit) | x64 | OK | OK | OK | |
| pitt | Mac OS X (10.4.10) | i386 | OK | OK | OK |
| Package: CORREP |
| Version: 1.3.0 |
| Command: /home/biocbuild/bbs-2.1-bioc/R/bin/R CMD check CORREP_1.3.0.tar.gz |
| RetCode: 0 |
| Time: 125.6 seconds |
| Status: OK |
| CheckDir: CORREP.Rcheck |
| Warnings: 0 |
* checking for working latex ... OK * using log directory '/home/biocbuild/bbs-2.1-bioc/meat/CORREP.Rcheck' * using R version 2.6.0 Under development (unstable) (2007-08-06 r42439) * checking for file 'CORREP/DESCRIPTION' ... OK * checking extension type ... Package * this is package 'CORREP' version '1.3.0' * checking package dependencies ... OK * checking if this is a source package ... OK * checking whether package 'CORREP' can be installed ... OK * checking package directory ... OK * checking for portable file names ... OK * checking for sufficient/correct file permissions ... OK * checking DESCRIPTION meta-information ... OK * checking top-level files ... OK * checking index information ... OK * checking package subdirectories ... OK * checking R files for non-ASCII characters ... OK * checking R files for syntax errors ... OK * checking whether the package can be loaded ... OK * checking whether the package can be loaded with stated dependencies ... OK * checking for unstated dependencies in R code ... OK * checking S3 generic/method consistency ... OK * checking replacement functions ... OK * checking foreign function calls ... OK * checking R code for possible problems ... OK * checking Rd files ... OK * checking Rd cross-references ... OK * checking for missing documentation entries ... OK * checking for code/documentation mismatches ... OK * checking Rd \usage sections ... OK * checking data for non-ASCII characters ... OK * creating CORREP-Ex.R ... OK * checking examples ... OK * checking package vignettes in 'inst/doc' ... OK * creating CORREP-manual.tex ... OK * checking CORREP-manual.tex ... OK
CORREP.Rcheck/00install.out:
* Installing *source* package 'CORREP' ...
** R
** data
** inst
** help
>>> Building/Updating help pages for package 'CORREP'
Formats: text html latex example
CORREP-package text html latex example
cor.LRtest text html latex example
cor.LRtest.std text html latex example
cor.balance text html latex example
cor.bootci text html latex example
cor.unbalance text html latex example
gal_all text html latex example
permutest text html latex example
true.member text html latex example
** building package indices ...
* DONE (CORREP)