Back to the "Multiple platform build/check report"
| IMPORTANT NOTE: R was configured with --enable-strict-barrier on lamb1 | 
| Package 1/247 | Hostname | OS | Arch | BUILD | CHECK | BUILD BIN | 
ABarray1.5.1Yongming Andrew SunLast Changed Date: 2007-05-03 11:47:04 -0700 Last Changed Rev: 24491  | lamb1 | Linux (SUSE 10.1) | x86_64 | OK | WARNINGS | |
| wellington | Linux (SUSE 9.2) | i686 | OK | WARNINGS | ||
| liverpool | Windows Server 2003 R2 (32-bit) | x64 | OK | WARNINGS | OK | |
| pitt | Mac OS X (10.4.10) | i386 | OK | WARNINGS | [ OK ] | 
| Package: ABarray | 
| Version: 1.5.1 | 
| Command: /Users/biocbuild/BBS/utils/build-universal.sh ABarray_1.5.1.tar.gz /Library/Frameworks/R.framework/Resources/bin/R ABarray.buildbin-libdir | 
| RetCode: 0 | 
| Time: 9.1 seconds | 
| Status: OK | 
| PackageFile: ABarray_1.5.1.tgz | 
                    INSTALLATION WITH 'R CMD INSTALL ABarray_1.5.1.tar.gz'
* Installing to library 'ABarray.buildbin-libdir'
* Installing *source* package 'ABarray' ...
** R
** inst
** preparing package for lazy loading
Loading required package: Biobase
Loading required package: tools
Welcome to Bioconductor
  Vignettes contain introductory material. To view, type
  'openVignette()'. To cite Bioconductor, see
  'citation("Biobase")' and for packages 'citation(pkgname)'.
Loading required package: multtest
Loading required package: survival
Loading required package: splines
** help
 >>> Building/Updating help pages for package 'ABarray'
     Formats: text html latex example 
  ABarray                           text    html    latex   example
  ABarrayGUI                        text    html    latex   example
  calcsn                            text    html    latex   example
  concord                           text    html    latex   example
  cvv                               text    html    latex   example
  cvvPlot                           text    html    latex   example
  doANOVA                           text    html    latex   example
  doLPE                             text    html    latex   example
  doPlotEset                        text    html    latex   example
  doPlotFCT                         text    html    latex   example
  doVennDiagram                     text    html    latex   example
  drawVennDiagram                   text    html    latex   example
  getMemberEset                     text    html    latex   example
  getPantherMap                     text    html    latex   example
  hclusterPlot                      text    html    latex   example
  icpPlot                           text    html    latex   example
  imputeFlag                        text    html    latex   example
  lpe.fdr.BH                        text    html    latex   example
  mamaplot                          text    html    latex   example
  matrixPlot                        text    html    latex   example
  mvaPair2                          text    html    latex   example
  panel.cor                         text    html    latex   example
  panel.scatter                     text    html    latex   example
  qnNormalize                       text    html    latex   example
  rgcolorsfunc                      text    html    latex   example
  savejpg                           text    html    latex   example
  scaleColorBar                     text    html    latex   example
  snSummary                         text    html    latex   example
** building package indices ...
* DONE (ABarray)