Back to the "Multiple platform build/check report"
| Package 168/234 | Hostname | OS | Arch | BUILD | CHECK | BUILD BIN |
ppiStats1.3.0Tony ChiangLast Changed Date: 2007-04-24 11:31:42 -0700 Last Changed Rev: 24217 | lamb1 | Linux (SUSE 10.1) | x86_64 | OK | OK | |
| wellington | Linux (SUSE 9.2) | i686 | OK | OK | ||
| churchill | Solaris 2.9 | sparc | OK | OK | ||
| lemming | Windows Server 2003 (32-bit) | x64 | [ OK ] | WARNINGS | OK |
| Package: ppiStats |
| Version: 1.3.0 |
| Command: D:\biocbld\bbs-2.1-bioc\R\bin\R.exe CMD build ppiStats |
| RetCode: 0 |
| Time: 76.5 seconds |
| Status: OK |
| PackageFile: ppiStats_1.3.0.tar.gz |
* checking for file 'ppiStats/DESCRIPTION' ... OK
* preparing 'ppiStats':
* checking DESCRIPTION meta-information ... OK
* installing the package to re-build vignettes
installing R.css in D:/biocbld/bbs-2.1-bioc/tmpdir/Rinst490850787
---------- Making package ppiStats ------------
adding build stamp to DESCRIPTION
installing R files
installing inst files
installing man source files
installing indices
installing help
>>> Building/Updating help pages for package 'ppiStats'
Formats: text html latex example chm
assessSymmetry text html latex example chm
bpMatrix text html latex example chm
calcInOutDegStats text html latex example chm
estErrProbMethodOfMoments text html latex example chm
genBPGraph text html latex example chm
idProteinErrorType text html latex example chm
idProteinType text html latex example chm
nullDistDoublyTestedEdges text html latex example chm
twPERM text html latex example chm
Microsoft HTML Help Compiler 4.74.8702
Compiling d:\biocbld\bbs-2.1-bioc\meat\ppiStats\chm\ppiStats.chm
Compile time: 0 minutes, 0 seconds
10 Topics
22 Local links
2 Internet links
1 Graphic
Created d:\biocbld\bbs-2.1-bioc\meat\ppiStats\chm\ppiStats.chm, 30,403 bytes
Compression decreased file by 6,953 bytes.
adding MD5 sums
* DONE (ppiStats)
* creating vignettes ... OK
* removing junk files
* checking for LF line-endings in source files
* checking for empty or unneeded directories
* building 'ppiStats_1.3.0.tar.gz'