Back to the "Multiple platform build/check report"
| Package 151/234 | Hostname | OS | Arch | BUILD | CHECK | BUILD BIN |
oneChannelGUI1.3.5Raffaele A CalogeroLast Changed Date: 2007-05-14 09:15:37 -0700 Last Changed Rev: 24639 | lamb1 | Linux (SUSE 10.1) | x86_64 | [ OK ] | OK | |
| wellington | Linux (SUSE 9.2) | i686 | OK | OK | ||
| churchill | Solaris 2.9 | sparc | TIMEOUT | skipped | ||
| lemming | Windows Server 2003 (32-bit) | x64 | OK | OK | OK |
| Package: oneChannelGUI |
| Version: 1.3.5 |
| Command: /home/biocbuild/bbs-2.1-bioc/R/bin/R CMD build oneChannelGUI |
| RetCode: 0 |
| Time: 67.5 seconds |
| Status: OK |
| PackageFile: oneChannelGUI_1.3.5.tar.gz |
* checking for file 'oneChannelGUI/DESCRIPTION' ... OK
* preparing 'oneChannelGUI':
* checking DESCRIPTION meta-information ... OK
* installing the package to re-build vignettes
* Installing *source* package 'oneChannelGUI' ...
** R
** inst
** preparing package for lazy loading
Loading required package: Biobase
Loading required package: tools
Welcome to Bioconductor
Vignettes contain introductory material. To view, type
'openVignette()'. To cite Bioconductor, see
'citation("Biobase")' and for packages 'citation(pkgname)'.
Loading required package: affylmGUI
Loading required package: limma
Loading required package: tcltk
Loading Tcl/Tk interface ... done
Loading required package: affy
Loading required package: affyio
Loading required package: tkWidgets
Loading required package: widgetTools
Loading required package: DynDoc
** help
>>> Building/Updating help pages for package 'oneChannelGUI'
Formats: text html latex example
GOenrichment text html latex example
IPAlistFilter text html latex example
ML.edesign text html latex example
OpenLargefiles text html latex example
PLM.plots text html latex example
PlotOptionsv1 text html latex example
VennDiagram text html latex example
delPLM text html latex example
dfMAplot text html latex example
extractAffyids text html latex example
inspecting.one.splice.index text html latex example
inspecting.splice.index text html latex example
intensityFilter text html latex example
iqrFilter text html latex example
listFilter text html latex example
masigpro text html latex example
masigpro.edesign text html latex example
masigpro.view text html latex example
myExpresso text html latex example
myPLM text html latex example
ocPlotHist text html latex example
ocPlotPCA text html latex example
oneChannelGUI-package text html latex example
oneChannelGUI text html latex example
plotGO text html latex example
rawpCheck text html latex example
sample.size.evaluation text html latex example
sample.size.evaluation1 text html latex example
showDataset text html latex example
showTopTable text html latex example
siggenes text html latex example
spliceIndex text html latex example
targetWidget text html latex example
templA text html latex example
trainTest text html latex example
** building package indices ...
* DONE (oneChannelGUI)
* creating vignettes ... OK
* removing junk files
* checking for LF line-endings in source files
* checking for empty or unneeded directories
* building 'oneChannelGUI_1.3.5.tar.gz'