Back to the "Multiple platform build/check report"
| Package 93/234 | Hostname | OS | Arch | BUILD | CHECK | BUILD BIN |
globaltest4.7.1Jelle GoemanLast Changed Date: 2007-05-14 06:37:26 -0700 Last Changed Rev: 24637 | lamb1 | Linux (SUSE 10.1) | x86_64 | ERROR | skipped | |
| wellington | Linux (SUSE 9.2) | i686 | [ ERROR ] | skipped | ||
| churchill | Solaris 2.9 | sparc | ERROR | skipped | ||
| lemming | Windows Server 2003 (32-bit) | x64 | ERROR | skipped | skipped |
| Package: globaltest |
| Version: 4.7.1 |
| Command: /loc/biocbuild/bbs-2.1-bioc/R/bin/R CMD build globaltest |
| RetCode: 1 |
| Time: 9.8 seconds |
| Status: ERROR |
| PackageFile: None |
* checking for file 'globaltest/DESCRIPTION' ... OK
* preparing 'globaltest':
* checking DESCRIPTION meta-information ... OK
* installing the package to re-build vignettes
* Installing *source* package 'globaltest' ...
** R
** data
** inst
** preparing package for lazy loading
Loading required package: multtest
Loading required package: Biobase
Loading required package: tools
Welcome to Bioconductor
Vignettes contain introductory material. To view, type
'openVignette()'. To cite Bioconductor, see
'citation("Biobase")' and for packages 'citation(pkgname)'.
Loading required package: survival
Loading required package: splines
Error in importIntoEnv(impenv, impnames, ns, impvars) :
objects 'Secondary', 'Term' are not exported by 'namespace:annotate'
Execution halted
ERROR: lazy loading failed for package 'globaltest'
** Removing '/tmp/Rinst2038720778/globaltest'
ERROR
Installation failed.
Removing '/tmp/Rinst2038720778'