Back to the "Multiple platform build/check report"
| Package 40/234 | Hostname | OS | Arch | BUILD | CHECK | BUILD BIN |
BufferedMatrixMethods1.1.1B. M. BolstadLast Changed Date: 2007-05-10 19:58:24 -0700 Last Changed Rev: 24585 | lamb1 | Linux (SUSE 10.1) | x86_64 | [ OK ] | OK | |
| wellington | Linux (SUSE 9.2) | i686 | OK | OK | ||
| churchill | Solaris 2.9 | sparc | OK | OK | ||
| lemming | Windows Server 2003 (32-bit) | x64 | OK | OK | OK |
| Package: BufferedMatrixMethods |
| Version: 1.1.1 |
| Command: /home/biocbuild/bbs-2.1-bioc/R/bin/R CMD build BufferedMatrixMethods |
| RetCode: 0 |
| Time: 0.5 seconds |
| Status: OK |
| PackageFile: BufferedMatrixMethods_1.1.1.tar.gz |
* checking for file 'BufferedMatrixMethods/DESCRIPTION' ... OK * preparing 'BufferedMatrixMethods': * checking DESCRIPTION meta-information ... OK * cleaning src * removing junk files * checking for LF line-endings in source files * checking for empty or unneeded directories * building 'BufferedMatrixMethods_1.1.1.tar.gz'