Back to the "Multiple platform build/check report"
| Package 217/234 | Hostname | OS | Arch | BUILD | CHECK | BUILD BIN |
splots1.3.0Oleg SklyarLast Changed Date: 2007-04-24 11:31:42 -0700 Last Changed Rev: 24217 | lamb1 | Linux (SUSE 10.1) | x86_64 | OK | OK | |
| wellington | Linux (SUSE 9.2) | i686 | OK | OK | ||
| churchill | Solaris 2.9 | sparc | OK | OK | ||
| lemming | Windows Server 2003 (32-bit) | x64 | OK | [ OK ] | OK |
| Package: splots |
| Version: 1.3.0 |
| Command: D:\biocbld\bbs-2.1-bioc\R\bin\R.exe CMD check splots_1.3.0.tar.gz |
| RetCode: 0 |
| Time: 30.5 seconds |
| Status: OK |
| CheckDir: splots.Rcheck |
| Warnings: 0 |
* checking for working latex ... OK * using log directory 'D:/biocbld/bbs-2.1-bioc/meat/splots.Rcheck' * using R version 2.6.0 Under development (unstable) (2007-04-17 r41210) * checking for file 'splots/DESCRIPTION' ... OK * this is package 'splots' version '1.3.0' * checking package dependencies ... OK * checking if this is a source package ... OK * checking whether package 'splots' can be installed ... OK * checking package directory ... OK * checking for portable file names ... OK * checking DESCRIPTION meta-information ... OK * checking top-level files ... OK * checking index information ... OK * checking package subdirectories ... OK * checking R files for non-ASCII characters ... OK * checking R files for syntax errors ... OK * checking whether the package can be loaded ... OK * checking whether the package can be loaded with stated dependencies ... OK * checking whether the name space can be loaded with stated dependencies ... OK * checking for unstated dependencies in R code ... OK * checking S3 generic/method consistency ... OK * checking replacement functions ... OK * checking foreign function calls ... OK * checking R code for possible problems ... OK * checking Rd files ... OK * checking Rd cross-references ... OK * checking for missing documentation entries ... OK * checking for code/documentation mismatches ... OK * checking Rd \usage sections ... OK * checking data for non-ASCII characters ... OK * creating splots-Ex.R ... OK * checking examples ... OK * checking package vignettes in 'inst/doc' ... OK * creating splots-manual.tex ... OK * checking splots-manual.tex ... OK
splots.Rcheck/00install.out:
installing R.css in D:/biocbld/bbs-2.1-bioc/meat/splots.Rcheck
---------- Making package splots ------------
adding build stamp to DESCRIPTION
installing NAMESPACE file and metadata
installing R files
save image
Loading required package: grid
installing inst files
installing data files
installing man source files
installing indices
not zipping data
installing help
>>> Building/Updating help pages for package 'splots'
Formats: text html latex example chm
internals text html latex chm
plotScreen text html latex example chm
Microsoft HTML Help Compiler 4.74.8702
Compiling d:\biocbld\bbs-2.1-bioc\meat\splots.Rcheck\00_pkg_src\splots\chm\splots.chm
Compile time: 0 minutes, 0 seconds
3 Topics
3 Local links
0 Internet links
1 Graphic
Created d:\biocbld\bbs-2.1-bioc\meat\splots.Rcheck\00_pkg_src\splots\chm\splots.chm, 17,979 bytes
Compression increased file by 8,090 bytes.
adding MD5 sums
* DONE (splots)