Back to the "Multiple platform build/check report"
| Package 217/234 | Hostname | OS | Arch | BUILD | CHECK | BUILD BIN |
splots1.3.0Oleg SklyarLast Changed Date: 2007-04-24 11:31:42 -0700 Last Changed Rev: 24217 | lamb1 | Linux (SUSE 10.1) | x86_64 | OK | OK | |
| wellington | Linux (SUSE 9.2) | i686 | OK | OK | ||
| churchill | Solaris 2.9 | sparc | OK | OK | ||
| lemming | Windows Server 2003 (32-bit) | x64 | OK | OK | [ OK ] |
| Package: splots |
| Version: 1.3.0 |
| Command: D:\biocbld\bbs-2.1-bioc\R\bin\R.exe CMD INSTALL --build --library=splots.BUILDBINinstdir splots_1.3.0.tar.gz |
| RetCode: 0 |
| Time: 10.0 seconds |
| Status: OK |
| PackageFile: splots_1.3.0.zip |
installing R.css in D:/biocbld/bbs-2.1-bioc/meat/splots.BUILDBINinstdir
Using auto-selected zip options ''
---------- Making package splots ------------
adding build stamp to DESCRIPTION
installing NAMESPACE file and metadata
installing R files
save image
Loading required package: grid
installing inst files
installing data files
installing man source files
installing indices
not zipping data
installing help
>>> Building/Updating help pages for package 'splots'
Formats: text html latex example chm
internals text html latex chm
plotScreen text html latex example chm
Microsoft HTML Help Compiler 4.74.8702
Compiling d:\biocbld\bbs-2.1-bioc\meat\R.INSTALL.940\splots\chm\splots.chm
Compile time: 0 minutes, 0 seconds
3 Topics
3 Local links
0 Internet links
1 Graphic
Created d:\biocbld\bbs-2.1-bioc\meat\R.INSTALL.940\splots\chm\splots.chm, 17,979 bytes
Compression increased file by 8,090 bytes.
adding MD5 sums
packaged installation of package 'splots' as splots_1.3.0.zip
* DONE (splots)