Back to the "Multiple platform build/check report"
| Package 72/234 | Hostname | OS | Arch | BUILD | CHECK | BUILD BIN |
flowViz1.1.3Florian HahneLast Changed Date: 2007-05-02 17:13:19 -0700 Last Changed Rev: 24463 | lamb1 | Linux (SUSE 10.1) | x86_64 | ERROR | skipped | |
| wellington | Linux (SUSE 9.2) | i686 | ERROR | skipped | ||
| churchill | Solaris 2.9 | sparc | ERROR | skipped | ||
| lemming | Windows Server 2003 (32-bit) | x64 | [ ERROR ] | skipped | skipped |
| Package: flowViz |
| Version: 1.1.3 |
| Command: D:\biocbld\bbs-2.1-bioc\R\bin\R.exe CMD build flowViz |
| RetCode: 1 |
| Time: 15.5 seconds |
| Status: ERROR |
| PackageFile: None |
* checking for file 'flowViz/DESCRIPTION' ... OK
* preparing 'flowViz':
* checking DESCRIPTION meta-information ... OK
* installing the package to re-build vignettes
installing R.css in D:/biocbld/bbs-2.1-bioc/tmpdir/Rinst336488824
---------- Making package flowViz ------------
adding build stamp to DESCRIPTION
installing NAMESPACE file and metadata
installing R files
installing inst files
installing man source files
installing indices
installing help
>>> Building/Updating help pages for package 'flowViz'
Formats: text html latex example chm
ecdfplot text html latex example chm
flowPlot text html latex example chm
flowViz-package text html latex example chm
latticeMethods-flowSet text html latex example chm
xyplot text html latex example chm
Microsoft HTML Help Compiler 4.74.8702
Compiling d:\biocbld\bbs-2.1-bioc\meat\flowViz\chm\flowViz.chm
Compile time: 0 minutes, 0 seconds
6 Topics
26 Local links
0 Internet links
1 Graphic
Created d:\biocbld\bbs-2.1-bioc\meat\flowViz\chm\flowViz.chm, 29,198 bytes
Compression decreased file by 10,065 bytes.
preparing package flowViz for lazy loading
Loading required package: flowCore
Loading required package: Biobase
Loading required package: tools
Welcome to Bioconductor
Vignettes contain introductory material. To view, type
'openVignette()'. To cite Bioconductor, see
'citation("Biobase")' and for packages 'citation(pkgname)'.
Loading required package: rrcov
KernSmooth 2.22 installed
Copyright M. P. Wand 1997
Loading required package: rgl
Loading required package: geneplotter
Loading required package: annotate
Loading required package: lattice
Loading required package: MASS
Error in loadNamespace(i[[1]], c(lib.loc, .libPaths())) :
there is no package called 'latticeExtra'
Execution halted
make: *** [lazyload] Error 1
*** Installation of flowViz failed ***
Removing 'D:/biocbld/bbs-2.1-bioc/tmpdir/Rinst336488824/flowViz'
ERROR
Installation failed.
Removing 'D:/biocbld/bbs-2.1-bioc/tmpdir/Rinst336488824'