Back to the "Multiple platform build/check report"
| Package 72/234 | Hostname | OS | Arch | BUILD | CHECK | BUILD BIN |
flowViz1.1.3Florian HahneLast Changed Date: 2007-05-02 17:13:19 -0700 Last Changed Rev: 24463 | lamb1 | Linux (SUSE 10.1) | x86_64 | [ ERROR ] | skipped | |
| wellington | Linux (SUSE 9.2) | i686 | ERROR | skipped | ||
| churchill | Solaris 2.9 | sparc | ERROR | skipped | ||
| lemming | Windows Server 2003 (32-bit) | x64 | ERROR | skipped | skipped |
| Package: flowViz |
| Version: 1.1.3 |
| Command: /home/biocbuild/bbs-2.1-bioc/R/bin/R CMD build flowViz |
| RetCode: 1 |
| Time: 3.5 seconds |
| Status: ERROR |
| PackageFile: None |
* checking for file 'flowViz/DESCRIPTION' ... OK
* preparing 'flowViz':
* checking DESCRIPTION meta-information ... OK
* installing the package to re-build vignettes
* Installing *source* package 'flowViz' ...
** R
** inst
** preparing package for lazy loading
Loading required package: flowCore
Loading required package: Biobase
Loading required package: tools
Welcome to Bioconductor
Vignettes contain introductory material. To view, type
'openVignette()'. To cite Bioconductor, see
'citation("Biobase")' and for packages 'citation(pkgname)'.
Loading required package: rrcov
Scalable Robust Estimators with High Breakdown Point (version 0.3-05)
KernSmooth 2.22 installed
Copyright M. P. Wand 1997
Loading required package: rgl
Loading required package: geneplotter
Loading required package: annotate
Loading required package: lattice
Loading required package: MASS
Error in loadNamespace(i[[1]], c(lib.loc, .libPaths())) :
there is no package called 'latticeExtra'
Execution halted
ERROR: lazy loading failed for package 'flowViz'
** Removing '/tmp/Rinst137183418/flowViz'
ERROR
Installation failed.
Removing '/tmp/Rinst137183418'