Back to the "Multiple platform build/check report"
| Package 67/234 | Hostname | OS | Arch | BUILD | CHECK | BUILD BIN |
fbat1.1.1Weiliang QiuLast Changed Date: 2007-04-26 12:09:35 -0700 Last Changed Rev: 24319 | lamb1 | Linux (SUSE 10.1) | x86_64 | ERROR | skipped | |
| wellington | Linux (SUSE 9.2) | i686 | OK | OK | ||
| churchill | Solaris 2.9 | sparc | ERROR | skipped | ||
| lemming | Windows Server 2003 (32-bit) | x64 | [ OK ] | OK | OK |
| Package: fbat |
| Version: 1.1.1 |
| Command: D:\biocbld\bbs-2.1-bioc\R\bin\R.exe CMD build fbat |
| RetCode: 0 |
| Time: 27.3 seconds |
| Status: OK |
| PackageFile: fbat_1.1.1.tar.gz |
* checking for file 'fbat/DESCRIPTION' ... OK
* preparing 'fbat':
* checking DESCRIPTION meta-information ... OK
* cleaning src
* installing the package to re-build vignettes
installing R.css in D:/biocbld/bbs-2.1-bioc/tmpdir/Rinst507216796
---------- Making package fbat ------------
adding build stamp to DESCRIPTION
installing NAMESPACE file and metadata
making DLL ...
making FBAT.d from FBAT.c
making register.d from register.c
gcc -Id:/biocbld/bbs-2.1-bioc/R/include -Wall -O3 -std=gnu99 -c FBAT.c -o FBAT.o
FBAT.c: In function `countLines':
FBAT.c:2142: warning: 'tmpnc2' might be used uninitialized in this function
FBAT.c: In function `checkoneNuclearFamily':
FBAT.c:1667: warning: 'sex1' might be used uninitialized in this function
FBAT.c:1667: warning: 'sex2' might be used uninitialized in this function
FBAT.c: In function `checkdecomposePed':
FBAT.c:1590: warning: 'i' might be used uninitialized in this function
FBAT.c: In function `checkCompatible':
FBAT.c:1404: warning: 'start2' might be used uninitialized in this function
FBAT.c: In function `oneNuclearFamily':
FBAT.c:1859: warning: 'sex1' might be used uninitialized in this function
FBAT.c:1859: warning: 'sex2' might be used uninitialized in this function
FBAT.c: In function `decomposePed':
FBAT.c:1986: warning: 'i' might be used uninitialized in this function
FBAT.c: In function `fbat':
FBAT.c:43: warning: 'start2' might be used uninitialized in this function
gcc -Id:/biocbld/bbs-2.1-bioc/R/include -Wall -O3 -std=gnu99 -c register.c -o register.o
g77 -O3 -Wall -c missGFreq.f -o missGFreq.o
windres -I d:/biocbld/bbs-2.1-bioc/R/include -i fbat_res.rc -o fbat_res.o
gcc -shared -s -o fbat.dll fbat.def FBAT.o register.o missGFreq.o fbat_res.o -Ld:/biocbld/bbs-2.1-bioc/R/bin -lg2c -lR
... DLL made
installing DLL
installing R files
save image
Loading required package: MASS
Loading required package: GeneticsBase
Loading required package: combinat
Attaching package: 'combinat'
The following object(s) are masked from package:utils :
combn
Loading required package: xtable
Loading required package: mvtnorm
installing inst files
installing data files
installing man source files
installing indices
Loading required package: methods
Loading required package: combinat
Attaching package: 'combinat'
The following object(s) are masked from package:utils :
combn
Loading required package: xtable
Loading required package: mvtnorm
not zipping data
installing help
>>> Building/Updating help pages for package 'fbat'
Formats: text html latex example chm
CAMP text html latex example chm
checkMarkers text html latex example chm
checkMendelian text html latex example chm
fbat text html latex example chm
geneSet2Ped text html latex example chm
missGFreq text html latex example chm
pedAFreq text html latex example chm
pedFlagHomo text html latex example chm
pedGFreq text html latex example chm
pedHardyWeinberg text html latex example chm
summaryPvalue text html latex example chm
viewFlagHomo text html latex example chm
viewHW text html latex example chm
viewstat text html latex example chm
Microsoft HTML Help Compiler 4.74.8702
Compiling d:\biocbld\bbs-2.1-bioc\meat\fbat\chm\fbat.chm
Compile time: 0 minutes, 0 seconds
15 Topics
28 Local links
3 Internet links
1 Graphic
Created d:\biocbld\bbs-2.1-bioc\meat\fbat\chm\fbat.chm, 32,239 bytes
Compression decreased file by 22,418 bytes.
adding MD5 sums
* DONE (fbat)
* creating vignettes ... OK
* cleaning src
* removing junk files
* checking for LF line-endings in source files
* checking for empty or unneeded directories
* building 'fbat_1.1.1.tar.gz'