Back to the "Multiple platform build/check report"
| Package 64/234 | Hostname | OS | Arch | BUILD | CHECK | BUILD BIN |
exonmap1.1.03Michal OkoniewskiLast Changed Date: 2007-05-03 05:56:42 -0700 Last Changed Rev: 24480 | lamb1 | Linux (SUSE 10.1) | x86_64 | OK | OK | |
| wellington | Linux (SUSE 9.2) | i686 | [ OK ] | OK | ||
| churchill | Solaris 2.9 | sparc | OK | ERROR | ||
| lemming | Windows Server 2003 (32-bit) | x64 | OK | ERROR | ERROR |
| Package: exonmap |
| Version: 1.1.03 |
| Command: /loc/biocbuild/bbs-2.1-bioc/R/bin/R CMD build exonmap |
| RetCode: 0 |
| Time: 2.8 seconds |
| Status: OK |
| PackageFile: exonmap_1.1.03.tar.gz |
* checking for file 'exonmap/DESCRIPTION' ... OK * preparing 'exonmap': * checking DESCRIPTION meta-information ... OK * removing junk files * checking for LF line-endings in source files * checking for empty or unneeded directories * building 'exonmap_1.1.03.tar.gz'