Back to the "Multiple platform build/check report"
| Package 139/234 | Hostname | OS | Arch | BUILD | CHECK | BUILD BIN |
MLInterfaces1.11.1V. CareyLast Changed Date: 2007-04-27 19:40:51 -0700 Last Changed Rev: 24364 | lamb1 | Linux (SUSE 10.1) | x86_64 | OK | OK | |
| wellington | Linux (SUSE 9.2) | i686 | OK | OK | ||
| churchill | Solaris 2.9 | sparc | [ OK ] | ERROR | ||
| lemming | Windows Server 2003 (32-bit) | x64 | OK | OK | OK |
| Package: MLInterfaces |
| Version: 1.11.1 |
| Command: /loc/biocbuild/bbs-2.1-bioc/R/bin/R CMD build MLInterfaces |
| RetCode: 0 |
| Time: 94.5 seconds |
| Status: OK |
| PackageFile: MLInterfaces_1.11.1.tar.gz |
* checking for file 'MLInterfaces/DESCRIPTION' ... OK
* preparing 'MLInterfaces':
* checking DESCRIPTION meta-information ... OK
* installing the package to re-build vignettes
* Installing *source* package 'MLInterfaces' ...
** R
** inst
** save image
Loading required package: Biobase
Loading required package: tools
Welcome to Bioconductor
Vignettes contain introductory material. To view, type
'openVignette()'. To cite Bioconductor, see
'citation("Biobase")' and for packages 'citation(pkgname)'.
Loading required package: genefilter
Loading required package: survival
Loading required package: splines
Loading required package: rpart
Loading required package: rda
[1] "MLLabel"
[1] "predClass"
[1] "groupIndex"
[1] "MLScore"
[1] "probMat"
[1] "probArray"
[1] "membMat"
[1] "qualScore"
[1] "silhouetteVec"
[1] "MLOutput"
[1] "classifOutput"
[1] "clustOutput"
[1] "show"
[1] "show"
[1] "show"
[1] "show"
[1] "show"
[1] "RObject"
[1] "RObject"
[1] "distMat"
[1] "distMat"
[1] "show"
[1] "predLabels"
[1] "predLabels"
[1] "predLabelsTr"
[1] "predLabelsTr"
[1] "predLabels"
[1] "predLabels"
[1] "predLabelsTr"
[1] "predLabelsTr"
[1] "allClass"
[1] "allClass"
[1] "trainInds"
[1] "trainInds"
[1] "confuMat"
[1] "confuMat"
[1] "confuMatTrain"
[1] "confuMatTrain"
[1] "ldaB"
[1] "ldaB"
[1] "qdaB"
[1] "qdaB"
[1] "isoMDSB"
[1] "MLearn"
[1] "MLearn"
[1] "MLearn"
[1] "raboostCont"
[1] "daboostCont"
[1] "show"
[1] "Predict"
[1] "Predict"
[1] "Predict"
[1] "knnB"
[1] "knnB"
[1] "knn1B"
[1] "knn1B"
[1] "lvq1B"
[1] "lvq1B"
[1] "lvq2B"
[1] "lvq2B"
[1] "lvq3B"
[1] "lvq3B"
[1] "olvq1B"
[1] "olvq1B"
[1] "SOMB"
[1] "agnesB"
[1] "agnesB"
[1] "claraB"
[1] "claraB"
[1] "dianaB"
[1] "dianaB"
[1] "fannyB"
[1] "fannyB"
[1] "pamB"
[1] "pamB"
[1] "cvB"
[1] "cvB"
[1] "bclustB"
[1] "bclustB"
[1] "cmeansB"
[1] "cmeansB"
[1] "cshellB"
[1] "cshellB"
[1] "lcaB"
[1] "lcaB"
[1] "naiveBayesB"
[1] "naiveBayesB"
[1] "svmB"
[1] "svmB"
[1] "gbmB"
[1] "gbmB"
[1] "baggingB"
[1] "baggingB"
[1] "ipredknnB"
[1] "ipredknnB"
[1] "sldaB"
[1] "sldaB"
[1] "nnetB"
[1] "nnetB"
[1] "pamrB"
[1] "pamrB"
[1] "getGrid"
[1] "getGrid"
[1] "getGrid"
[1] "planarPlot"
[1] "planarPlot"
[1] "planarPlot"
[1] "randomForestB"
[1] "randomForestB"
[1] "rpartB"
[1] "rpartB"
[1] "silhouetteB"
[1] "silhouetteB"
[1] "silhouetteB"
[1] "stat.diag.daB"
[1] "stat.diag.daB"
[1] "somout"
[1] "show"
[1] "somB"
[1] "somB"
[1] "SOMBout"
[1] "show"
[1] "SOMB"
[1] "hclustB"
[1] "hclustB"
[1] "hclustB"
[1] "hclustB"
[1] "kmeansB"
[1] "kmeansB"
[1] "varImpStruct"
[1] "getVarImp"
[1] "getVarImp"
[1] "show"
[1] "plot"
[1] "xval"
[1] "xval"
[1] "xval"
[1] "xvalLoop"
[1] "xvalLoop"
[1] "xvalML"
[1] "xvalML"
[1] "xvalML"
[1] "xvalML"
[1] "xvalML"
** help
>>> Building/Updating help pages for package 'MLInterfaces'
Formats: text html latex example
MLIclust text html latex example
MLIntInternals text html latex example
MLearn-methods text html latex example
RAB text html latex example
SOMB text html latex example
classifOutput-class text html latex example
clustOutput-class text html latex example
confuMat-methods text html latex example
knnB text html latex example
planarPlot-methods text html latex example
raboostCont-class text html latex example
varImpStruct-class text html latex example
xval-methods text html latex example
xvalLoop-methods text html latex
xvalLoop text html latex example
** building package indices ...
* DONE (MLInterfaces)
* creating vignettes ... OK
* removing junk files
* checking for LF line-endings in source files
* checking for empty or unneeded directories
* building 'MLInterfaces_1.11.1.tar.gz'