Back to the "Multiple platform build/check report"
| Package 98/234 | Hostname | OS | Arch | BUILD | CHECK | BUILD BIN |
GraphAT1.9.0Thomas LaFramboiseLast Changed Date: 2007-04-24 11:31:42 -0700 Last Changed Rev: 24217 | lamb1 | Linux (SUSE 10.1) | x86_64 | OK | OK | |
| wellington | Linux (SUSE 9.2) | i686 | OK | OK | ||
| churchill | Solaris 2.9 | sparc | OK | OK | ||
| lemming | Windows Server 2003 (32-bit) | x64 | [ OK ] | OK | OK |
| Package: GraphAT |
| Version: 1.9.0 |
| Command: D:\biocbld\bbs-2.1-bioc\R\bin\R.exe CMD build GraphAT |
| RetCode: 0 |
| Time: 2.5 seconds |
| Status: OK |
| PackageFile: GraphAT_1.9.0.tar.gz |
* checking for file 'GraphAT/DESCRIPTION' ... OK * preparing 'GraphAT': * checking DESCRIPTION meta-information ... OK * removing junk files * checking for LF line-endings in source files * checking for empty or unneeded directories * building 'GraphAT_1.9.0.tar.gz'