Back to the "Multiple platform build/check report"
| Package 98/234 | Hostname | OS | Arch | BUILD | CHECK | BUILD BIN |
GraphAT1.9.0Thomas LaFramboiseLast Changed Date: 2007-04-24 11:31:42 -0700 Last Changed Rev: 24217 | lamb1 | Linux (SUSE 10.1) | x86_64 | OK | OK | |
| wellington | Linux (SUSE 9.2) | i686 | OK | OK | ||
| churchill | Solaris 2.9 | sparc | OK | OK | ||
| lemming | Windows Server 2003 (32-bit) | x64 | OK | OK | [ OK ] |
| Package: GraphAT |
| Version: 1.9.0 |
| Command: D:\biocbld\bbs-2.1-bioc\R\bin\R.exe CMD INSTALL --build --library=GraphAT.BUILDBINinstdir GraphAT_1.9.0.tar.gz |
| RetCode: 0 |
| Time: 20.0 seconds |
| Status: OK |
| PackageFile: GraphAT_1.9.0.zip |
installing R.css in D:/biocbld/bbs-2.1-bioc/meat/GraphAT.BUILDBINinstdir
Using auto-selected zip options 'GraphAT-ZIPDATA=zip'
---------- Making package GraphAT ------------
adding build stamp to DESCRIPTION
installing R files
installing data files
installing man source files
installing indices
zipping data
installing help
>>> Building/Updating help pages for package 'GraphAT'
Formats: text html latex example chm
Phenoclusters text html latex example chm
causton text html latex example chm
cellcycle text html latex example chm
clust2Mat text html latex example chm
depthmat text html latex example chm
getpvalue text html latex example chm
giaever text html latex example chm
mRNAclusters text html latex example chm
makeClustM text html latex example chm
mat2UndirG text html latex example chm
permPower text html latex example chm
perms text html latex example chm
Microsoft HTML Help Compiler 4.74.8702
Compiling d:\biocbld\bbs-2.1-bioc\meat\R.INSTALL.3064\GraphAT\chm\GraphAT.chm
Compile time: 0 minutes, 0 seconds
13 Topics
37 Local links
5 Internet links
1 Graphic
Created d:\biocbld\bbs-2.1-bioc\meat\R.INSTALL.3064\GraphAT\chm\GraphAT.chm, 29,306 bytes
Compression decreased file by 8,268 bytes.
adding MD5 sums
packaged installation of package 'GraphAT' as GraphAT_1.9.0.zip
* DONE (GraphAT)