Back to the "Multiple platform build/check report"
| Package 202/214 | Hostname | OS | Arch | BUILD | CHECK | BUILD BIN |
ssize1.8.0Gregory R. WarnesLast Changed Date: 2007-04-24 11:21:48 -0700 Last Changed Rev: 24214 | lamb1 | Linux (SUSE 10.1) | x86_64 | OK | OK | |
| wellington | Linux (SUSE 9.2) | i686 | OK | OK | ||
| lemming | Windows Server 2003 (32-bit) | x64 | OK | OK | [ OK ] |
| Package: ssize |
| Version: 1.8.0 |
| Command: D:\biocbld\bbs-2.0-bioc\R\bin\R.exe CMD INSTALL --build --library=ssize.buildbin-libdir ssize_1.8.0.tar.gz |
| RetCode: 0 |
| Time: 10.5 seconds |
| Status: OK |
| PackageFile: ssize_1.8.0.zip |
installing R.css in D:/biocbld/bbs-2.0-bioc/meat/ssize.buildbin-libdir
Using auto-selected zip options 'ssize-ZIPDATA=zip'
---------- Making package ssize ------------
adding build stamp to DESCRIPTION
installing R files
installing inst files
installing data files
installing man source files
installing indices
zipping data
installing help
>>> Building/Updating help pages for package 'ssize'
Formats: text html latex example chm
exp.sd text html latex example chm
pow text html latex example chm
Microsoft HTML Help Compiler 4.74.8702
Compiling d:\biocbld\bbs-2.0-bioc\meat\R.INSTALL.4968\ssize\chm\ssize.chm
Compile time: 0 minutes, 1 second
3 Topics
11 Local links
1 Internet link
1 Graphic
Created d:\biocbld\bbs-2.0-bioc\meat\R.INSTALL.4968\ssize\chm\ssize.chm, 21,042 bytes
Compression increased file by 5,460 bytes.
adding MD5 sums
packaged installation of package 'ssize' as ssize_1.8.0.zip
* DONE (ssize)