Back to the "Multiple platform build/check report"
| Package 201/214 | Hostname | OS | Arch | BUILD | CHECK | BUILD BIN |
sscore1.8.0Richard KennedyLast Changed Date: 2007-04-24 11:21:48 -0700 Last Changed Rev: 24214 | lamb1 | Linux (SUSE 10.1) | x86_64 | OK | OK | |
| wellington | Linux (SUSE 9.2) | i686 | OK | OK | ||
| lemming | Windows Server 2003 (32-bit) | x64 | OK | [ OK ] | OK |
| Package: sscore |
| Version: 1.8.0 |
| Command: D:\biocbld\bbs-2.0-bioc\R\bin\R.exe CMD check sscore_1.8.0.tar.gz |
| RetCode: 0 |
| Time: 91.9 seconds |
| Status: OK |
| CheckDir: sscore.Rcheck |
| Warnings: 0 |
* checking for working latex ... OK * using log directory 'D:/biocbld/bbs-2.0-bioc/meat/sscore.Rcheck' * using R version 2.5.1 (2007-06-27) * checking for file 'sscore/DESCRIPTION' ... OK * this is package 'sscore' version '1.8.0' * checking package dependencies ... OK * checking if this is a source package ... OK * checking whether package 'sscore' can be installed ... OK * checking package directory ... OK * checking for portable file names ... OK * checking DESCRIPTION meta-information ... OK * checking top-level files ... OK * checking index information ... OK * checking package subdirectories ... OK * checking R files for non-ASCII characters ... OK * checking R files for syntax errors ... OK * checking whether the package can be loaded ... OK * checking whether the package can be loaded with stated dependencies ... OK * checking for unstated dependencies in R code ... OK * checking S3 generic/method consistency ... OK * checking replacement functions ... OK * checking foreign function calls ... OK * checking R code for possible problems ... OK * checking Rd files ... OK * checking Rd cross-references ... OK * checking for missing documentation entries ... OK * checking for code/documentation mismatches ... OK * checking Rd \usage sections ... OK * creating sscore-Ex.R ... OK * checking examples ... OK * checking package vignettes in 'inst/doc' ... OK * creating sscore-manual.tex ... OK * checking sscore-manual.tex ... OK
sscore.Rcheck/00install.out:
installing R.css in D:/biocbld/bbs-2.0-bioc/meat/sscore.Rcheck
---------- Making package sscore ------------
adding build stamp to DESCRIPTION
installing R files
installing inst files
installing man source files
installing indices
installing help
>>> Building/Updating help pages for package 'sscore'
Formats: text html latex example chm
OneStepBiweightAlgorithm text html latex chm
SScore text html latex example chm
SScoreBatch text html latex example chm
computeAffxRawQ text html latex chm
computeAffxSFandSDT text html latex example chm
computeOutlier text html latex example chm
computeRawQ text html latex chm
computeSFandSDT text html latex example chm
computeZoneIInfo text html latex chm
computeZonenoise text html latex chm
trimMean text html latex chm
Microsoft HTML Help Compiler 4.74.8702
Compiling d:\biocbld\bbs-2.0-bioc\meat\sscore.Rcheck\00_pkg_src\sscore\chm\sscore.chm
Compile time: 0 minutes, 0 seconds
12 Topics
28 Local links
16 Internet links
1 Graphic
Created d:\biocbld\bbs-2.0-bioc\meat\sscore.Rcheck\00_pkg_src\sscore\chm\sscore.chm, 28,681 bytes
Compression decreased file by 17,496 bytes.
preparing package sscore for lazy loading
Loading required package: affy
Loading required package: Biobase
Loading required package: tools
Welcome to Bioconductor
Vignettes contain introductory material. To view, type
'openVignette()'. To cite Bioconductor, see
'citation("Biobase")' and for packages 'citation(pkgname)'.
Loading required package: affyio
adding MD5 sums
* DONE (sscore)