Back to the "Multiple platform build/check report"
| Package 201/214 | Hostname | OS | Arch | BUILD | CHECK | BUILD BIN |
sscore1.8.0Richard KennedyLast Changed Date: 2007-04-24 11:21:48 -0700 Last Changed Rev: 24214 | lamb1 | Linux (SUSE 10.1) | x86_64 | OK | OK | |
| wellington | Linux (SUSE 9.2) | i686 | OK | OK | ||
| lemming | Windows Server 2003 (32-bit) | x64 | OK | OK | [ OK ] |
| Package: sscore |
| Version: 1.8.0 |
| Command: D:\biocbld\bbs-2.0-bioc\R\bin\R.exe CMD INSTALL --build --library=sscore.buildbin-libdir sscore_1.8.0.tar.gz |
| RetCode: 0 |
| Time: 21.5 seconds |
| Status: OK |
| PackageFile: sscore_1.8.0.zip |
installing R.css in D:/biocbld/bbs-2.0-bioc/meat/sscore.buildbin-libdir
Using auto-selected zip options ''
---------- Making package sscore ------------
adding build stamp to DESCRIPTION
installing R files
installing inst files
installing man source files
installing indices
installing help
>>> Building/Updating help pages for package 'sscore'
Formats: text html latex example chm
OneStepBiweightAlgorithm text html latex chm
SScore text html latex example chm
SScoreBatch text html latex example chm
computeAffxRawQ text html latex chm
computeAffxSFandSDT text html latex example chm
computeOutlier text html latex example chm
computeRawQ text html latex chm
computeSFandSDT text html latex example chm
computeZoneIInfo text html latex chm
computeZonenoise text html latex chm
trimMean text html latex chm
Microsoft HTML Help Compiler 4.74.8702
Compiling d:\biocbld\bbs-2.0-bioc\meat\R.INSTALL.4396\sscore\chm\sscore.chm
Compile time: 0 minutes, 0 seconds
12 Topics
28 Local links
16 Internet links
1 Graphic
Created d:\biocbld\bbs-2.0-bioc\meat\R.INSTALL.4396\sscore\chm\sscore.chm, 28,679 bytes
Compression decreased file by 17,498 bytes.
preparing package sscore for lazy loading
Loading required package: affy
Loading required package: Biobase
Loading required package: tools
Welcome to Bioconductor
Vignettes contain introductory material. To view, type
'openVignette()'. To cite Bioconductor, see
'citation("Biobase")' and for packages 'citation(pkgname)'.
Loading required package: affyio
adding MD5 sums
packaged installation of package 'sscore' as sscore_1.8.0.zip
* DONE (sscore)