Back to the "Multiple platform build/check report"
| Package 66/214 | Hostname | OS | Arch | BUILD | CHECK | BUILD BIN |
flowCore1.0.2Nolwenn Le MeurLast Changed Date: 2007-05-04 14:31:32 -0700 Last Changed Rev: 24513 | lamb1 | Linux (SUSE 10.1) | x86_64 | OK | OK | |
| wellington | Linux (SUSE 9.2) | i686 | OK | OK | ||
| lemming | Windows Server 2003 (32-bit) | x64 | [ OK ] | OK | OK |
| Package: flowCore |
| Version: 1.0.2 |
| Command: D:\biocbld\bbs-2.0-bioc\R\bin\R.exe CMD build flowCore |
| RetCode: 0 |
| Time: 51.5 seconds |
| Status: OK |
| PackageFile: flowCore_1.0.2.tar.gz |
* checking for file 'flowCore/DESCRIPTION' ... OK
* preparing 'flowCore':
* checking DESCRIPTION meta-information ... OK
* cleaning src
* installing the package to re-build vignettes
installing R.css in D:/biocbld/bbs-2.0-bioc/tmpdir/Rinst508421960
---------- Making package flowCore ------------
adding build stamp to DESCRIPTION
installing NAMESPACE file and metadata
making DLL ...
making biexponential.d from biexponential.c
making inPolygon.d from inPolygon.c
gcc -Id:/biocbld/bbs-2.0-bioc/R/include -Wall -O3 -std=gnu99 -c biexponential.c -o biexponential.o
gcc -Id:/biocbld/bbs-2.0-bioc/R/include -Wall -O3 -std=gnu99 -c inPolygon.c -o inPolygon.o
windres -I d:/biocbld/bbs-2.0-bioc/R/include -i flowCore_res.rc -o flowCore_res.o
gcc -shared -s -o flowCore.dll flowCore.def biexponential.o inPolygon.o flowCore_res.o -Ld:/biocbld/bbs-2.0-bioc/R/bin -lR
... DLL made
installing DLL
installing R files
installing inst files
installing data files
installing man source files
installing indices
not zipping data
installing help
>>> Building/Updating help pages for package 'flowCore'
Formats: text html latex example chm
GvHD text html latex chm
KmeansFilter text html latex example chm
Subset-methods text html latex example chm
arcsinhTransform text html latex example chm
biexponentialTransform text html latex example chm
coerce text html latex example chm
compensate text html latex example chm
each_col text html latex example chm
ellipsoidGate text html latex example chm
filter-and-methods text html latex chm
filter-class text html latex chm
filter-in-methods text html latex example chm
filter-on-methods text html latex example chm
filter text html latex example chm
filterDetails-methods text html latex chm
filterResult-class text html latex example chm
flowFrame-class text html latex chm
flowSet-class text html latex example chm
fsApply text html latex example chm
identifier text html latex example chm
keyword-methods text html latex example chm
linearTransform text html latex example chm
lnTransform text html latex example chm
logTransform text html latex example chm
logicalFilterResult-class text html latex example chm
logicleTransform text html latex example chm
multiFilter-class text html latex example chm
multipleFilterResult-class text html latex example chm
norm2Filter-class text html latex example chm
parameters text html latex example chm
print.filterSummary text html latex example chm
quadraticTransform text html latex example chm
randomFilterResult-class text html latex example chm
read.FCS text html latex example chm
read.flowSet text html latex example chm
rectangleGate text html latex example chm
sampleFilter-class text html latex example chm
scaleTransform text html latex example chm
setOperationFilter-class text html latex example chm
spillover-flowSet text html latex chm
transform-class text html latex example chm
transformFilter-class text html latex example chm
transformList-class text html latex example chm
transformMap-class text html latex example chm
truncateTransform text html latex example chm
Microsoft HTML Help Compiler 4.74.8702
Compiling d:\biocbld\bbs-2.0-bioc\meat\flowCore\chm\flowCore.chm
Compile time: 0 minutes, 0 seconds
46 Topics
391 Local links
2 Internet links
1 Graphic
Created d:\biocbld\bbs-2.0-bioc\meat\flowCore\chm\flowCore.chm, 72,851 bytes
Compression decreased file by 135,971 bytes.
preparing package flowCore for lazy loading
Loading required package: Biobase
Loading required package: tools
Welcome to Bioconductor
Vignettes contain introductory material. To view, type
'openVignette()'. To cite Bioconductor, see
'citation("Biobase")' and for packages 'citation(pkgname)'.
Loading required package: rrcov
KernSmooth 2.22 installed
Copyright M. P. Wand 1997
Creating a new generic function for "colnames" in "flowCore"
Creating a new generic function for "colnames<-" in "flowCore"
Creating a new generic function for "nrow" in "flowCore"
Creating a new generic function for "ncol" in "flowCore"
adding MD5 sums
* DONE (flowCore)
* creating vignettes ... OK
* cleaning src
* removing junk files
* checking for LF line-endings in source files
* checking for empty or unneeded directories
* building 'flowCore_1.0.2.tar.gz'