Back to the "Multiple platform build/check report"
| Package 10/214 | Hostname | OS | Arch | BUILD | CHECK | BUILD BIN |
affylmGUI1.10.4Keith SatterleyLast Changed Date: 2007-06-25 06:28:05 -0700 Last Changed Rev: 25541 | lamb1 | Linux (SUSE 10.1) | x86_64 | OK | OK | |
| wellington | Linux (SUSE 9.2) | i686 | OK | OK | ||
| lemming | Windows Server 2003 (32-bit) | x64 | OK | [ OK ] | OK |
| Package: affylmGUI |
| Version: 1.10.4 |
| Command: D:\biocbld\bbs-2.0-bioc\R\bin\R.exe CMD check affylmGUI_1.10.4.tar.gz |
| RetCode: 0 |
| Time: 75.5 seconds |
| Status: OK |
| CheckDir: affylmGUI.Rcheck |
| Warnings: 0 |
* checking for working latex ... OK * using log directory 'D:/biocbld/bbs-2.0-bioc/meat/affylmGUI.Rcheck' * using R version 2.5.1 (2007-06-27) * checking for file 'affylmGUI/DESCRIPTION' ... OK * this is package 'affylmGUI' version '1.10.4' * checking package dependencies ... OK * checking if this is a source package ... OK * checking whether package 'affylmGUI' can be installed ... OK * checking package directory ... OK * checking for portable file names ... OK * checking DESCRIPTION meta-information ... OK * checking top-level files ... OK * checking index information ... OK * checking package subdirectories ... OK * checking R files for non-ASCII characters ... OK * checking R files for syntax errors ... OK * checking whether the package can be loaded ... OK * checking whether the package can be loaded with stated dependencies ... OK * checking for unstated dependencies in R code ... OK * checking S3 generic/method consistency ... OK * checking replacement functions ... OK * checking foreign function calls ... OK * checking R code for possible problems ... OK * checking Rd files ... OK * checking Rd cross-references ... OK * checking for missing documentation entries ... OK * checking for code/documentation mismatches ... OK * checking Rd \usage sections ... OK * creating affylmGUI-Ex.R ... OK * checking examples ... OK * checking package vignettes in 'inst/doc' ... OK * creating affylmGUI-manual.tex ... OK * checking affylmGUI-manual.tex ... OK
affylmGUI.Rcheck/00install.out:
installing R.css in D:/biocbld/bbs-2.0-bioc/meat/affylmGUI.Rcheck
---------- Making package affylmGUI ------------
adding build stamp to DESCRIPTION
installing R files
installing inst files
installing man source files
installing indices
installing help
>>> Building/Updating help pages for package 'affylmGUI'
Formats: text html latex example chm
ALGchangeLog text html latex chm
affylmGUI text html latex chm
Microsoft HTML Help Compiler 4.74.8702
Compiling d:\biocbld\bbs-2.0-bioc\meat\affylmGUI.Rcheck\00_pkg_src\affylmGUI\chm\affylmGUI.chm
Compile time: 0 minutes, 0 seconds
3 Topics
111 Local links
0 Internet links
1 Graphic
Created d:\biocbld\bbs-2.0-bioc\meat\affylmGUI.Rcheck\00_pkg_src\affylmGUI\chm\affylmGUI.chm, 25,034 bytes
Compression decreased file by 28,846 bytes.
preparing package affylmGUI for lazy loading
Loading required package: limma
Loading required package: tcltk
Loading Tcl/Tk interface ... done
Loading required package: affy
Loading required package: Biobase
Loading required package: tools
Welcome to Bioconductor
Vignettes contain introductory material. To view, type
'openVignette()'. To cite Bioconductor, see
'citation("Biobase")' and for packages 'citation(pkgname)'.
Loading required package: affyio
adding MD5 sums
* DONE (affylmGUI)