Back to the "Multiple platform build/check report"
| Package 13/214 | Hostname | OS | Arch | BUILD | CHECK | BUILD BIN |
affyQCReport1.14.0Craig ParmanLast Changed Date: 2007-04-24 11:21:48 -0700 Last Changed Rev: 24214 | lamb1 | Linux (SUSE 10.1) | x86_64 | OK | OK | |
| wellington | Linux (SUSE 9.2) | i686 | OK | OK | ||
| lemming | Windows Server 2003 (32-bit) | x64 | [ OK ] | OK | OK |
| Package: affyQCReport |
| Version: 1.14.0 |
| Command: D:\biocbld\bbs-2.0-bioc\R\bin\R.exe CMD build affyQCReport |
| RetCode: 0 |
| Time: 77.0 seconds |
| Status: OK |
| PackageFile: affyQCReport_1.14.0.tar.gz |
* checking for file 'affyQCReport/DESCRIPTION' ... OK
* preparing 'affyQCReport':
* checking DESCRIPTION meta-information ... OK
* installing the package to re-build vignettes
installing R.css in D:/biocbld/bbs-2.0-bioc/tmpdir/Rinst362854031
---------- Making package affyQCReport ------------
adding build stamp to DESCRIPTION
installing R files
installing inst files
installing man source files
installing indices
installing help
>>> Building/Updating help pages for package 'affyQCReport'
Formats: text html latex example chm
QCReport text html latex example chm
affyQAReport text html latex example chm
borderQC1 text html latex example chm
borderQC2 text html latex example chm
correlationPlot text html latex example chm
dist2 text html latex example chm
signalDist text html latex example chm
titlePage text html latex example chm
Microsoft HTML Help Compiler 4.74.8702
Compiling d:\biocbld\bbs-2.0-bioc\meat\affyQCReport\chm\affyQCReport.chm
Compile time: 0 minutes, 0 seconds
9 Topics
31 Local links
0 Internet links
1 Graphic
Created d:\biocbld\bbs-2.0-bioc\meat\affyQCReport\chm\affyQCReport.chm, 29,055 bytes
Compression decreased file by 7,506 bytes.
adding MD5 sums
* DONE (affyQCReport)
* creating vignettes ... OK
* removing junk files
* checking for LF line-endings in source files
* checking for empty or unneeded directories
* building 'affyQCReport_1.14.0.tar.gz'