Back to the "Multiple platform build/check report"
| Package 13/214 | Hostname | OS | Arch | BUILD | CHECK | BUILD BIN | 
| affyQCReport1.14.0Craig ParmanLast Changed Date: 2007-04-24 11:21:48 -0700 Last Changed Rev: 24214 | lamb1 | Linux (SUSE 10.1) | x86_64 | [ OK ] | OK | |
| wellington | Linux (SUSE 9.2) | i686 | OK | OK | ||
| lemming | Windows Server 2003 (32-bit) | x64 | OK | OK | OK | 
| Package: affyQCReport | 
| Version: 1.14.0 | 
| Command: /home/biocbuild/bbs-2.0-bioc/R/bin/R CMD build affyQCReport | 
| RetCode: 0 | 
| Time: 29.5 seconds | 
| Status: OK | 
| PackageFile: affyQCReport_1.14.0.tar.gz | 
* checking for file 'affyQCReport/DESCRIPTION' ... OK
* preparing 'affyQCReport':
* checking DESCRIPTION meta-information ... OK
* installing the package to re-build vignettes
* Installing *source* package 'affyQCReport' ...
** R
** inst
** help
 >>> Building/Updating help pages for package 'affyQCReport'
     Formats: text html latex example 
  QCReport                          text    html    latex   example
  affyQAReport                      text    html    latex   example
  borderQC1                         text    html    latex   example
  borderQC2                         text    html    latex   example
  correlationPlot                   text    html    latex   example
  dist2                             text    html    latex   example
  signalDist                        text    html    latex   example
  titlePage                         text    html    latex   example
** building package indices ...
* DONE (affyQCReport)
* creating vignettes ... OK
* removing junk files
* checking for LF line-endings in source files
* checking for empty or unneeded directories
* building 'affyQCReport_1.14.0.tar.gz'