Back to the "Multiple platform build/check report"
| Package 174/214 | Hostname | OS | Arch | BUILD | CHECK | BUILD BIN |
Ringo1.0.0J. ToedlingLast Changed Date: 2007-04-25 10:13:36 -0700 Last Changed Rev: 24275 | lamb1 | Linux (SUSE 10.1) | x86_64 | OK | [ OK ] | |
| wellington | Linux (SUSE 9.2) | i686 | OK | OK | ||
| lemming | Windows Server 2003 (32-bit) | x64 | OK | OK | OK |
| Package: Ringo |
| Version: 1.0.0 |
| Command: /home/biocbuild/bbs-2.0-bioc/R/bin/R CMD check Ringo_1.0.0.tar.gz |
| RetCode: 0 |
| Time: 43.5 seconds |
| Status: OK |
| CheckDir: Ringo.Rcheck |
| Warnings: 0 |
* checking for working latex ... OK * using log directory '/home/biocbuild/bbs-2.0-bioc/meat/Ringo.Rcheck' * using R version 2.5.1 (2007-06-27) * checking for file 'Ringo/DESCRIPTION' ... OK * checking extension type ... Package * this is package 'Ringo' version '1.0.0' * checking package dependencies ... OK * checking if this is a source package ... OK * checking whether package 'Ringo' can be installed ... OK * checking package directory ... OK * checking for portable file names ... OK * checking for sufficient/correct file permissions ... OK * checking DESCRIPTION meta-information ... OK * checking top-level files ... OK * checking index information ... OK * checking package subdirectories ... OK * checking R files for non-ASCII characters ... OK * checking R files for syntax errors ... OK * checking whether the package can be loaded ... OK * checking whether the package can be loaded with stated dependencies ... OK * checking whether the name space can be loaded with stated dependencies ... OK * checking for unstated dependencies in R code ... OK * checking S3 generic/method consistency ... OK * checking replacement functions ... OK * checking foreign function calls ... OK * checking R code for possible problems ... OK * checking Rd files ... OK * checking Rd cross-references ... OK * checking for missing documentation entries ... OK * checking for code/documentation mismatches ... OK * checking Rd \usage sections ... OK * checking for CRLF line endings in C/C++/Fortran sources/headers ... OK * checking for portable use of $BLAS_LIBS ... OK * creating Ringo-Ex.R ... OK * checking examples ... OK * checking package vignettes in 'inst/doc' ... OK * creating Ringo-manual.tex ... OK * checking Ringo-manual.tex ... OK
Ringo.Rcheck/00install.out:
* Installing *source* package 'Ringo' ...
** libs
g++ -I/home/biocbuild/bbs-2.0-bioc/R/include -I/home/biocbuild/bbs-2.0-bioc/R/include -I/usr/local/include -fpic -g -O2 -Wall -c mmedian.cpp -o mmedian.o
g++ -shared -L/usr/local/lib64 -o Ringo.so mmedian.o -L/home/biocbuild/bbs-2.0-bioc/R/lib -lR
** R
** inst
** save image
Loading required package: Biobase
Loading required package: tools
Welcome to Bioconductor
Vignettes contain introductory material. To view, type
'openVignette()'. To cite Bioconductor, see
'citation("Biobase")' and for packages 'citation(pkgname)'.
Loading required package: geneplotter
Loading required package: annotate
Loading required package: lattice
KernSmooth 2.22 installed
Copyright M. P. Wand 1997
Loading required package: limma
Loading required package: vsn
Loading required package: affy
Loading required package: affyio
Loading required package: RColorBrewer
** help
>>> Building/Updating help pages for package 'Ringo'
Formats: text html latex example
Ringo-internal text html latex
arrayImage text html latex example
asExprSet text html latex example
autocorr text html latex example
chipAlongChrom text html latex example
computeRunningMedians text html latex example
corrPlot text html latex example
findPeaksOnSmoothed text html latex example
ftr2xys text html latex example
newPeak text html latex example
nimblegenNorm text html latex
peakByThreshold text html latex example
peakClass text html latex example
plotAutocorr text html latex example
plot_peak text html latex example
preprocess text html latex example
readNimblegen text html latex example
relatePeaks text html latex example
sliding_median text html latex example
sliding_quantile text html latex example
** building package indices ...
* DONE (Ringo)