Back to the "Multiple platform build/check report"
| Package 138/214 | Hostname | OS | Arch | BUILD | CHECK | BUILD BIN |
OLINgui1.10.0Matthias FutschikLast Changed Date: 2007-04-24 11:21:48 -0700 Last Changed Rev: 24214 | lamb1 | Linux (SUSE 10.1) | x86_64 | OK | OK | |
| wellington | Linux (SUSE 9.2) | i686 | OK | OK | ||
| lemming | Windows Server 2003 (32-bit) | x64 | OK | OK | [ OK ] |
| Package: OLINgui |
| Version: 1.10.0 |
| Command: D:\biocbld\bbs-2.0-bioc\R\bin\R.exe CMD INSTALL --build --library=OLINgui.buildbin-libdir OLINgui_1.10.0.tar.gz |
| RetCode: 0 |
| Time: 12.7 seconds |
| Status: OK |
| PackageFile: OLINgui_1.10.0.zip |
installing R.css in D:/biocbld/bbs-2.0-bioc/meat/OLINgui.buildbin-libdir
Using auto-selected zip options ''
---------- Making package OLINgui ------------
adding build stamp to DESCRIPTION
installing R files
installing inst files
installing man source files
installing indices
installing help
>>> Building/Updating help pages for package 'OLINgui'
Formats: text html latex example chm
OLINgui text html latex chm
Microsoft HTML Help Compiler 4.74.8702
Compiling d:\biocbld\bbs-2.0-bioc\meat\R.INSTALL.3780\OLINgui\chm\OLINgui.chm
Compile time: 0 minutes, 0 seconds
2 Topics
2 Local links
3 Internet links
1 Graphic
Created d:\biocbld\bbs-2.0-bioc\meat\R.INSTALL.3780\OLINgui\chm\OLINgui.chm, 17,758 bytes
Compression increased file by 8,653 bytes.
preparing package OLINgui for lazy loading
Loading required package: OLIN
Loading required package: locfit
Loading required package: akima
Loading required package: lattice
Loading required package: Biobase
Loading required package: tools
Welcome to Bioconductor
Vignettes contain introductory material. To view, type
'openVignette()'. To cite Bioconductor, see
'citation("Biobase")' and for packages 'citation(pkgname)'.
Loading required package: marray
Loading required package: limma
Loading required package: tkWidgets
Loading required package: widgetTools
Loading required package: tcltk
Loading Tcl/Tk interface ... done
Loading required package: DynDoc
adding MD5 sums
packaged installation of package 'OLINgui' as OLINgui_1.10.0.zip
* DONE (OLINgui)