Back to the "Multiple platform build/check report"
| Package 138/214 | Hostname | OS | Arch | BUILD | CHECK | BUILD BIN | 
OLINgui1.10.0Matthias FutschikLast Changed Date: 2007-04-24 11:21:48 -0700 Last Changed Rev: 24214  | lamb1 | Linux (SUSE 10.1) | x86_64 | [ OK ] | OK | |
| wellington | Linux (SUSE 9.2) | i686 | OK | OK | ||
| lemming | Windows Server 2003 (32-bit) | x64 | OK | OK | OK | 
| Package: OLINgui | 
| Version: 1.10.0 | 
| Command: /home/biocbuild/bbs-2.0-bioc/R/bin/R CMD build OLINgui | 
| RetCode: 0 | 
| Time: 6.5 seconds | 
| Status: OK | 
| PackageFile: OLINgui_1.10.0.tar.gz | 
* checking for file 'OLINgui/DESCRIPTION' ... OK
* preparing 'OLINgui':
* checking DESCRIPTION meta-information ... OK
* checking whether 'INDEX' is up-to-date ... NO
* use '--force' to overwrite the existing 'INDEX'
* installing the package to re-build vignettes
* Installing *source* package 'OLINgui' ...
** R
** inst
** preparing package for lazy loading
Loading required package: OLIN
Loading required package: locfit
Loading required package: akima
Loading required package: lattice
locfit 1.5-3 	 2006-04-06 
Loading required package: Biobase
Loading required package: tools
Welcome to Bioconductor
  Vignettes contain introductory material. To view, type
  'openVignette()'. To cite Bioconductor, see
  'citation("Biobase")' and for packages 'citation(pkgname)'.
Loading required package: marray
Loading required package: limma
Loading required package: tkWidgets
Loading required package: widgetTools
Loading required package: tcltk
Loading Tcl/Tk interface ... done
Loading required package: DynDoc
** help
 >>> Building/Updating help pages for package 'OLINgui'
     Formats: text html latex example 
  OLINgui                           text    html    latex
** building package indices ...
* DONE (OLINgui)
* creating vignettes ... OK
* removing junk files
* checking for LF line-endings in source files
* checking for empty or unneeded directories
* building 'OLINgui_1.10.0.tar.gz'