Back to the "Multiple platform build/check report"
| Package 58/214 | Hostname | OS | Arch | BUILD | CHECK | BUILD BIN |
EBarrays1.8.1Deepayan SarkarLast Changed Date: 2007-04-27 13:03:58 -0700 Last Changed Rev: 24347 | lamb1 | Linux (SUSE 10.1) | x86_64 | OK | [ OK ] | |
| wellington | Linux (SUSE 9.2) | i686 | OK | OK | ||
| lemming | Windows Server 2003 (32-bit) | x64 | OK | OK | OK |
| Package: EBarrays |
| Version: 1.8.1 |
| Command: /home/biocbuild/bbs-2.0-bioc/R/bin/R CMD check EBarrays_1.8.1.tar.gz |
| RetCode: 0 |
| Time: 80.7 seconds |
| Status: OK |
| CheckDir: EBarrays.Rcheck |
| Warnings: 0 |
* checking for working latex ... OK * using log directory '/home/biocbuild/bbs-2.0-bioc/meat/EBarrays.Rcheck' * using R version 2.5.1 (2007-06-27) * checking for file 'EBarrays/DESCRIPTION' ... OK * this is package 'EBarrays' version '1.8.1' * checking package dependencies ... OK * checking if this is a source package ... OK * checking whether package 'EBarrays' can be installed ... OK * checking package directory ... OK * checking for portable file names ... OK * checking for sufficient/correct file permissions ... OK * checking DESCRIPTION meta-information ... OK * checking top-level files ... OK * checking index information ... OK * checking package subdirectories ... OK * checking R files for non-ASCII characters ... OK * checking R files for syntax errors ... OK * checking whether the package can be loaded ... OK * checking whether the package can be loaded with stated dependencies ... OK * checking for unstated dependencies in R code ... OK * checking S3 generic/method consistency ... OK * checking replacement functions ... OK * checking foreign function calls ... OK * checking R code for possible problems ... OK * checking Rd files ... OK * checking Rd cross-references ... OK * checking for missing documentation entries ... OK * checking for code/documentation mismatches ... OK * checking Rd \usage sections ... OK * checking data for non-ASCII characters ... OK * checking for CRLF line endings in C/C++/Fortran sources/headers ... OK * checking for portable use of $BLAS_LIBS ... OK * creating EBarrays-Ex.R ... OK * checking examples ... OK * checking tests ... make[1]: Entering directory `/home/biocbuild/bbs-2.0-bioc/meat/EBarrays.Rcheck/tests' Running 'test.R' make[1]: Leaving directory `/home/biocbuild/bbs-2.0-bioc/meat/EBarrays.Rcheck/tests' OK * checking package vignettes in 'inst/doc' ... OK * creating EBarrays-manual.tex ... OK * checking EBarrays-manual.tex ... OK
EBarrays.Rcheck/00install.out:
* Installing *source* package 'EBarrays' ...
** libs
gcc -std=gnu99 -I/home/biocbuild/bbs-2.0-bioc/R/include -I/home/biocbuild/bbs-2.0-bioc/R/include -I/usr/local/include -fpic -g -O2 -Wall -c ebarrays.c -o ebarrays.o
gcc -std=gnu99 -shared -L/usr/local/lib64 -o EBarrays.so ebarrays.o -L/home/biocbuild/bbs-2.0-bioc/R/lib -lR
** R
** data
** demo
** inst
** save image
Loading required package: Biobase
Loading required package: tools
Welcome to Bioconductor
Vignettes contain introductory material. To view, type
'openVignette()'. To cite Bioconductor, see
'citation("Biobase")' and for packages 'citation(pkgname)'.
Loading required package: lattice
[1] "ebarraysFamily"
[1] "ebarraysPatterns"
[1] "show"
[1] "show"
[1] "ebarraysEmFit"
[1] "show"
[1] "emfit"
[1] "emfit"
[1] "emfit"
[1] "emfit"
[1] "emfit"
[1] "emfit"
[1] "emfit"
[1] "postprob"
[1] "ebarraysPostProb"
[1] "show"
[1] "postprob"
[1] "postprob"
[1] "postprob"
** preparing package for lazy loading
Loading required package: Biobase
Loading required package: tools
Welcome to Bioconductor
Vignettes contain introductory material. To view, type
'openVignette()'. To cite Bioconductor, see
'citation("Biobase")' and for packages 'citation(pkgname)'.
Loading required package: lattice
** help
>>> Building/Updating help pages for package 'EBarrays'
Formats: text html latex example
ebarraysFamily-class text html latex example
ebplots text html latex example
emfit text html latex example
gould text html latex example
postprob text html latex
utilities text html latex example
** building package indices ...
* DONE (EBarrays)