Back to the "Multiple platform build/check report"
| Package 58/214 | Hostname | OS | Arch | BUILD | CHECK | BUILD BIN |
EBarrays1.8.1Deepayan SarkarLast Changed Date: 2007-04-27 13:03:58 -0700 Last Changed Rev: 24347 | lamb1 | Linux (SUSE 10.1) | x86_64 | [ OK ] | OK | |
| wellington | Linux (SUSE 9.2) | i686 | OK | OK | ||
| lemming | Windows Server 2003 (32-bit) | x64 | OK | OK | OK |
| Package: EBarrays |
| Version: 1.8.1 |
| Command: /home/biocbuild/bbs-2.0-bioc/R/bin/R CMD build EBarrays |
| RetCode: 0 |
| Time: 33.4 seconds |
| Status: OK |
| PackageFile: EBarrays_1.8.1.tar.gz |
* checking for file 'EBarrays/DESCRIPTION' ... OK
* preparing 'EBarrays':
* checking DESCRIPTION meta-information ... OK
* cleaning src
* checking whether 'INDEX' is up-to-date ... OK
* installing the package to re-build vignettes
* Installing *source* package 'EBarrays' ...
** libs
gcc -std=gnu99 -I/home/biocbuild/bbs-2.0-bioc/R/include -I/home/biocbuild/bbs-2.0-bioc/R/include -I/usr/local/include -fpic -g -O2 -Wall -c ebarrays.c -o ebarrays.o
gcc -std=gnu99 -shared -L/usr/local/lib64 -o EBarrays.so ebarrays.o -L/home/biocbuild/bbs-2.0-bioc/R/lib -lR
** R
** data
** demo
** inst
** save image
Loading required package: Biobase
Loading required package: tools
Welcome to Bioconductor
Vignettes contain introductory material. To view, type
'openVignette()'. To cite Bioconductor, see
'citation("Biobase")' and for packages 'citation(pkgname)'.
Loading required package: lattice
[1] "ebarraysFamily"
[1] "ebarraysPatterns"
[1] "show"
[1] "show"
[1] "ebarraysEmFit"
[1] "show"
[1] "emfit"
[1] "emfit"
[1] "emfit"
[1] "emfit"
[1] "emfit"
[1] "emfit"
[1] "emfit"
[1] "postprob"
[1] "ebarraysPostProb"
[1] "show"
[1] "postprob"
[1] "postprob"
[1] "postprob"
** preparing package for lazy loading
Loading required package: Biobase
Loading required package: tools
Welcome to Bioconductor
Vignettes contain introductory material. To view, type
'openVignette()'. To cite Bioconductor, see
'citation("Biobase")' and for packages 'citation(pkgname)'.
Loading required package: lattice
** help
>>> Building/Updating help pages for package 'EBarrays'
Formats: text html latex example
ebarraysFamily-class text html latex example
ebplots text html latex example
emfit text html latex example
gould text html latex example
postprob text html latex
utilities text html latex example
** building package indices ...
* DONE (EBarrays)
* creating vignettes ... OK
* cleaning src
* removing junk files
* checking for LF line-endings in source files
* checking for empty or unneeded directories
* building 'EBarrays_1.8.1.tar.gz'