Back to the "Multiple platform build/check report"
| Package 33/214 | Hostname | OS | Arch | BUILD | CHECK | BUILD BIN |
BioMVCClass1.4.0Elizabeth WhalenLast Changed Date: 2007-04-24 11:21:48 -0700 Last Changed Rev: 24214 | lamb1 | Linux (SUSE 10.1) | x86_64 | OK | OK | |
| wellington | Linux (SUSE 9.2) | i686 | OK | OK | ||
| lemming | Windows Server 2003 (32-bit) | x64 | [ OK ] | OK | OK |
| Package: BioMVCClass |
| Version: 1.4.0 |
| Command: D:\biocbld\bbs-2.0-bioc\R\bin\R.exe CMD build BioMVCClass |
| RetCode: 0 |
| Time: 13.6 seconds |
| Status: OK |
| PackageFile: BioMVCClass_1.4.0.tar.gz |
* checking for file 'BioMVCClass/DESCRIPTION' ... OK
* preparing 'BioMVCClass':
* checking DESCRIPTION meta-information ... OK
* installing the package to re-build vignettes
installing R.css in D:/biocbld/bbs-2.0-bioc/tmpdir/Rinst450470632
---------- Making package BioMVCClass ------------
adding build stamp to DESCRIPTION
installing NAMESPACE file and metadata
installing R files
installing inst files
installing man source files
installing indices
installing help
>>> Building/Updating help pages for package 'BioMVCClass'
Formats: text html latex example chm
GSE-class text html latex example chm
exprModel-class text html latex example chm
graphModel-class text html latex example chm
graphView-class text html latex example chm
gseModel-class text html latex example chm
heatmapView-class text html latex example chm
Microsoft HTML Help Compiler 4.74.8702
Compiling d:\biocbld\bbs-2.0-bioc\meat\BioMVCClass\chm\BioMVCClass.chm
Compile time: 0 minutes, 0 seconds
7 Topics
48 Local links
0 Internet links
1 Graphic
Created d:\biocbld\bbs-2.0-bioc\meat\BioMVCClass\chm\BioMVCClass.chm, 21,480 bytes
Compression decreased file by 12,568 bytes.
adding MD5 sums
* DONE (BioMVCClass)
* creating vignettes ... OK
* removing junk files
* checking for LF line-endings in source files
* checking for empty or unneeded directories
* building 'BioMVCClass_1.4.0.tar.gz'