Back to the "Multiple platform build/check report"
| Package 33/214 | Hostname | OS | Arch | BUILD | CHECK | BUILD BIN |
BioMVCClass1.4.0Elizabeth WhalenLast Changed Date: 2007-04-24 11:21:48 -0700 Last Changed Rev: 24214 | lamb1 | Linux (SUSE 10.1) | x86_64 | [ OK ] | OK | |
| wellington | Linux (SUSE 9.2) | i686 | OK | OK | ||
| lemming | Windows Server 2003 (32-bit) | x64 | OK | OK | OK |
| Package: BioMVCClass |
| Version: 1.4.0 |
| Command: /home/biocbuild/bbs-2.0-bioc/R/bin/R CMD build BioMVCClass |
| RetCode: 0 |
| Time: 2.5 seconds |
| Status: OK |
| PackageFile: BioMVCClass_1.4.0.tar.gz |
* checking for file 'BioMVCClass/DESCRIPTION' ... OK
* preparing 'BioMVCClass':
* checking DESCRIPTION meta-information ... OK
* installing the package to re-build vignettes
* Installing *source* package 'BioMVCClass' ...
** R
** inst
** help
>>> Building/Updating help pages for package 'BioMVCClass'
Formats: text html latex example
GSE-class text html latex example
exprModel-class text html latex example
graphModel-class text html latex example
graphView-class text html latex example
gseModel-class text html latex example
heatmapView-class text html latex example
** building package indices ...
* DONE (BioMVCClass)
* creating vignettes ... OK
* removing junk files
* checking for LF line-endings in source files
* checking for empty or unneeded directories
* building 'BioMVCClass_1.4.0.tar.gz'