Back to the "Multiple platform build/check report"
| Package 160/214 | Hostname | OS | Arch | BUILD | CHECK | BUILD BIN | 
| qvalue1.10.0John D. StoreyLast Changed Date: 2007-04-24 11:21:48 -0700 Last Changed Rev: 24214 | lamb1 | Linux (SUSE 10.1) | x86_64 | OK | OK | |
| wellington | Linux (SUSE 9.2) | i686 | [ OK ] | OK | ||
| churchill | Solaris 2.9 | sparc | OK | OK | ||
| lemming | Windows Server 2003 (32-bit) | x64 | OK | OK | OK | |
| liverpool | Windows Server 2003 R2 (32-bit) | x64 | OK | OK | OK | |
| derby | Mac OS X (10.4.9) | i686 | OK | OK | 
| Package: qvalue | 
| Version: 1.10.0 | 
| Command: /loc/biocbuild/bbs-2.0-bioc/R/bin/R CMD build qvalue | 
| RetCode: 0 | 
| Time: 15.8 seconds | 
| Status: OK | 
| PackageFile: qvalue_1.10.0.tar.gz | 
* checking for file 'qvalue/DESCRIPTION' ... OK
* preparing 'qvalue':
* checking DESCRIPTION meta-information ... OK
* checking whether 'INDEX' is up-to-date ... NO
* use '--force' to overwrite the existing 'INDEX'
* installing the package to re-build vignettes
* Installing *source* package 'qvalue' ...
** R
** data
** inst
** preparing package for lazy loading
** help
 >>> Building/Updating help pages for package 'qvalue'
     Formats: text html latex example 
  hedenfalk                         text    html    latex
  qplot                             text    html    latex   example
  qsummary                          text    html    latex   example
  qvalue.gui                        text    html    latex   example
  qvalue                            text    html    latex   example
  qwrite                            text    html    latex   example
** building package indices ...
* DONE (qvalue)
* creating vignettes ... OK
* removing junk files
* checking for LF line-endings in source files
* checking for empty or unneeded directories
* building 'qvalue_1.10.0.tar.gz'