Back to the "Multiple platform build/check report"
| Package 160/214 | Hostname | OS | Arch | BUILD | CHECK | BUILD BIN | 
| qvalue1.10.0John D. StoreyLast Changed Date: 2007-04-24 11:21:48 -0700 Last Changed Rev: 24214 | lamb1 | Linux (SUSE 10.1) | x86_64 | OK | OK | |
| wellington | Linux (SUSE 9.2) | i686 | OK | OK | ||
| churchill | Solaris 2.9 | sparc | OK | OK | ||
| lemming | Windows Server 2003 (32-bit) | x64 | OK | OK | OK | |
| liverpool | Windows Server 2003 R2 (32-bit) | x64 | [ OK ] | OK | OK | |
| derby | Mac OS X (10.4.9) | i686 | OK | OK | 
| Package: qvalue | 
| Version: 1.10.0 | 
| Command: E:\biocbld\bbs-2.0-bioc\R\bin\R.exe CMD build qvalue | 
| RetCode: 0 | 
| Time: 23.4 seconds | 
| Status: OK | 
| PackageFile: qvalue_1.10.0.tar.gz | 
* checking for file 'qvalue/DESCRIPTION' ... OK
* preparing 'qvalue':
* checking DESCRIPTION meta-information ... OK
* checking whether 'INDEX' is up-to-date ... NO
* use '--force' to overwrite the existing 'INDEX'
* installing the package to re-build vignettes
installing R.css in E:/biocbld/bbs-2.0-bioc/tmpdir/Rinst368476837
---------- Making package qvalue ------------
  adding build stamp to DESCRIPTION
  installing R files
  installing inst files
  installing data files
  installing man source files
  installing indices
  not zipping data
  installing help
 >>> Building/Updating help pages for package 'qvalue'
     Formats: text html latex example chm 
  hedenfalk                         text    html    latex           chm
  qplot                             text    html    latex   example chm
  qsummary                          text    html    latex   example chm
  qvalue.gui                        text    html    latex   example chm
  qvalue                            text    html    latex   example chm
  qwrite                            text    html    latex   example chm
Microsoft HTML Help Compiler 4.74.8702
Compiling e:\biocbld\bbs-2.0-bioc\meat\qvalue\chm\qvalue.chm
Compile time: 0 minutes, 0 seconds
7	Topics
35	Local links
3	Internet links
1	Graphic
Created e:\biocbld\bbs-2.0-bioc\meat\qvalue\chm\qvalue.chm, 24,753 bytes
Compression decreased file by 926 bytes.
  preparing package qvalue for lazy loading
  adding MD5 sums
* DONE (qvalue)
* creating vignettes ... OK
* removing junk files
* checking for LF line-endings in source files
* checking for empty or unneeded directories
* building 'qvalue_1.10.0.tar.gz'